BEGIN:VCALENDAR
VERSION:2.0
PRODID:-//Appalachian Mountain Bike Club - ECPv6.15.20//NONSGML v1.0//EN
CALSCALE:GREGORIAN
METHOD:PUBLISH
X-WR-CALNAME:Appalachian Mountain Bike Club
X-ORIGINAL-URL:https://ambcknox.org
X-WR-CALDESC:Events for Appalachian Mountain Bike Club
REFRESH-INTERVAL;VALUE=DURATION:PT1H
X-Robots-Tag:noindex
X-PUBLISHED-TTL:PT1H
BEGIN:VTIMEZONE
TZID:America/New_York
BEGIN:DAYLIGHT
TZOFFSETFROM:-0500
TZOFFSETTO:-0400
TZNAME:EDT
DTSTART:20240310T070000
END:DAYLIGHT
BEGIN:STANDARD
TZOFFSETFROM:-0400
TZOFFSETTO:-0500
TZNAME:EST
DTSTART:20241103T060000
END:STANDARD
BEGIN:DAYLIGHT
TZOFFSETFROM:-0500
TZOFFSETTO:-0400
TZNAME:EDT
DTSTART:20250309T070000
END:DAYLIGHT
BEGIN:STANDARD
TZOFFSETFROM:-0400
TZOFFSETTO:-0500
TZNAME:EST
DTSTART:20251102T060000
END:STANDARD
BEGIN:DAYLIGHT
TZOFFSETFROM:-0500
TZOFFSETTO:-0400
TZNAME:EDT
DTSTART:20260308T070000
END:DAYLIGHT
BEGIN:STANDARD
TZOFFSETFROM:-0400
TZOFFSETTO:-0500
TZNAME:EST
DTSTART:20261101T060000
END:STANDARD
BEGIN:DAYLIGHT
TZOFFSETFROM:-0500
TZOFFSETTO:-0400
TZNAME:EDT
DTSTART:20270314T070000
END:DAYLIGHT
BEGIN:STANDARD
TZOFFSETFROM:-0400
TZOFFSETTO:-0500
TZNAME:EST
DTSTART:20271107T060000
END:STANDARD
END:VTIMEZONE
BEGIN:VEVENT
DTSTART;TZID=America/New_York:20251123T130000
DTEND;TZID=America/New_York:20251123T170000
DTSTAMP:20260423T073311
CREATED:20251106T234310Z
LAST-MODIFIED:20251106T234809Z
UID:10000504-1763902800-1763917200@ambcknox.org
SUMMARY:Cranksgiving
DESCRIPTION:Cranksgiving is a national event put on locally by Two Bikes that combines two things you probably love: riding bikes with friends and supporting our community! \nPart scavenger hunt\, part food drive\, Cranksgiving is a team bike ride that sends folks around Knoxville to various grocery stores to collect food items\, all to benefit our local food bank\, Second Harvest Food Bank of East Tennessee.  \nEach team will be given a list of grocery stores and food items to purchase\, each worth a certain number of points. The team with the highest score and the quickest time wins! \nThe event starts and ends at Schulz Bräu in North Knoxville. Registration for Cranksgiving opens at 1PM and the ride begins at 2PM\, so be sure to show up early to plan the best route! RSVP for Cranksgiving now!
URL:https://ambcknox.org/event/cranksgiving/
LOCATION:Schulz Brau Brewing Company\, 126 Bernard Ave\, Knoxville\, 37917\, United States
CATEGORIES:Fundraisers,Group Rides,Regional Events,Volunteer Opportunities
ATTACH;FMTTYPE=image/jpeg:https://ambcknox.org/site/wp-content/uploads/2025/11/https___cdn.evbuc_.com_images_1134827733_506113093503_1_original.jpeg
GEO:35.9770738;-83.9261403
X-APPLE-STRUCTURED-LOCATION;VALUE=URI;X-ADDRESS=Schulz Brau Brewing Company 126 Bernard Ave Knoxville 37917 United States;X-APPLE-RADIUS=500;X-TITLE=126 Bernard Ave:geo:-83.9261403,35.9770738
END:VEVENT
BEGIN:VEVENT
DTSTART;TZID=America/New_York:20260324T190000
DTEND;TZID=America/New_York:20260324T213000
DTSTAMP:20260423T073311
CREATED:20260213T141220Z
LAST-MODIFIED:20260213T141343Z
UID:10000550-1774378800-1774387800@ambcknox.org
SUMMARY:Banff Mountain Film Festival - AMBC Night
DESCRIPTION:Enjoy the Banff Mountain Film Festival World Tour in Knoxville while supporting AMBC — a portion of the Tuesday night ticket sales benefits AMBC! Get your tickets here. \nEmbark on an extraordinary cinematic adventure at the Bijou Theatre this March as the Banff Mountain Film Festival returns for two nights! Renowned as the world’s largest and most prestigious mountain festival\, Banff showcases the very best in adventure\, exploration\, and environmental storytelling. \nThis year\, we’re thrilled to welcome back the Banff Road Warrior from Canada — a beloved feature of the Bijou screenings. \nThe 2025/2026 World Tour will feature a selection of award-winning films chosen from over 400 submissions to the annual festival. These films are an exhilarating journey through the captivating beauty of uncharted landscapes\, the richness of remote cultures\, and the heart-pounding excitement of action sports. \nEach evening will feature a different lineup of films\, transporting you to the far corners of the globe and celebrating the boundless spirit of adventure. Exact films will be announced soon — stay tuned for updates. \nDon’t miss your chance to experience the Banff Mountain Film Festival at the Bijou Theatre; where the spirit of adventure comes to life on the big screen! Doors open at 6\, and the show starts at 7.
URL:https://ambcknox.org/event/banff-mountain-film-festival-ambc-night/
LOCATION:Bijou Theatre\, 803 S Gay St\, Knoxville\, TN\, 37902\, United States
CATEGORIES:Fundraisers,Regional Events
ATTACH;FMTTYPE=image/jpeg:https://ambcknox.org/site/wp-content/uploads/2026/02/WT-NA-Horiz-16-9-2560x1440_25.jpeg
GEO:35.9624821;-83.9168008
X-APPLE-STRUCTURED-LOCATION;VALUE=URI;X-ADDRESS=Bijou Theatre 803 S Gay St Knoxville TN 37902 United States;X-APPLE-RADIUS=500;X-TITLE=803 S Gay St:geo:-83.9168008,35.9624821
END:VEVENT
BEGIN:VEVENT
DTSTART;TZID=America/New_York:20260401T183000
DTEND;TZID=America/New_York:20260401T203000
DTSTAMP:20260423T073311
CREATED:20260318T140558Z
LAST-MODIFIED:20260319T154046Z
UID:10000636-1775068200-1775075400@ambcknox.org
SUMMARY:BINGO Night Benefitting AMBC at Sweet P's BBQ
DESCRIPTION:Join us for dinner and BINGO at Sweet P’s BBQ on Wednesday\, April 1st from 6:30-8:30 pm. BINGO cards directly support AMBC and will be sold at the door for $10 each\, or 3 for $25. Kids cards are $5 each. We’ll play 4-5 games with the opportunity to win a prize every game. Come out and support!
URL:https://ambcknox.org/event/bingo-night-benefitting-ambc-at-sweet-ps-bbq/
LOCATION:Sweet P’s Uptown Corner\, 3029 Tazewell Pike\, Knoxville\, TN\, 37918\, United States
CATEGORIES:Fundraisers,Parties,Regional Events
ATTACH;FMTTYPE=image/jpeg:https://ambcknox.org/site/wp-content/uploads/2026/03/Sweet-Ps-April-2026-Bingo-Poster.jpg
GEO:36.0274892;-83.9226895
X-APPLE-STRUCTURED-LOCATION;VALUE=URI;X-ADDRESS=Sweet P’s Uptown Corner 3029 Tazewell Pike Knoxville TN 37918 United States;X-APPLE-RADIUS=500;X-TITLE=3029 Tazewell Pike:geo:-83.9226895,36.0274892
END:VEVENT
BEGIN:VEVENT
DTSTART;TZID=America/New_York:20260424T160000
DTEND;TZID=America/New_York:20260424T200000
DTSTAMP:20260423T073311
CREATED:20260213T140022Z
LAST-MODIFIED:20260213T140041Z
UID:10000549-1777046400-1777060800@ambcknox.org
SUMMARY:Second Annual Tree Fest
DESCRIPTION:Support Trees Knoxville at their biggest event of the year\, Tree Fest! \nKnoxville’s Second Annual Tree Fest is an event celebrating all things trees on Friday\, April 24\, 2026\, at Baker Creek Preserve (3700 Lancaster Dr\, Knoxville\, TN 37920) from 4:00 pm – 8:00 pm. \nWe are inviting local sponsors to participate in the event. Sponsorship will help us cover the costs of Tree Fest\, including rentals\, signage\, activities\, music\, food & t-shirts for volunteers\, and equipment rentals. Tree Fest is our biggest event of the year\, is free to the public\, and brings in over 300 community members to learn about and appreciate our urban forest… \nWhat to Expect: \n\n\nEducation tree walks around Baker Creek Preserve. \n\n\nFree tree giveaways \n\n\nGames and family-friendly activities \n\n\nLocal vendors and eco-friendly crafts \n\n\nLive Screen printing with local artist \n\n\nCome plant a tree\, grow the community! \n\n\n\n\n\n\n\n\nSign up for volunteer events starting soon – be sure to check their website for more info!
URL:https://ambcknox.org/event/second-annual-tree-fest/
LOCATION:Baker Creek Preserve\, 1516 Taylor Road\, Knoxville\, TN\, 37920\, United States
CATEGORIES:Fundraisers,Regional Events,Volunteer Opportunities
ATTACH;FMTTYPE=image/webp:https://ambcknox.org/site/wp-content/uploads/2026/02/488510199_18325412692165734_7369293535012421008_n.webp
GEO:35.942899;-83.890728
X-APPLE-STRUCTURED-LOCATION;VALUE=URI;X-ADDRESS=Baker Creek Preserve 1516 Taylor Road Knoxville TN 37920 United States;X-APPLE-RADIUS=500;X-TITLE=1516 Taylor Road:geo:-83.890728,35.942899
END:VEVENT
BEGIN:VEVENT
DTSTART;TZID=America/New_York:20260425T080000
DTEND;TZID=America/New_York:20260425T080000
DTSTAMP:20260423T073311
CREATED:20260407T163631Z
LAST-MODIFIED:20260408T133150Z
UID:10000638-1777104000-1777104000@ambcknox.org
SUMMARY:8th Annual Veterans Heritage Ridge Run
DESCRIPTION:The 8th Annual Veterans’ Ridge Run is presented by Veteran Heritage Site Foundation & Vietnam Veterans of America Chapter 1078. It’s an event for JROTC to compete for the Ridge Cup and for runners to be aware of the city’s Veterans Park. Many runners come to support the Sharp’s Ridge Veterans Memorial Park and Veterans Heritage Site Foundation. The Run will be on the Trails on Sharp’s Ridge. \nRucksack runners will carry a rucksack with 10 pounds of food to bring awareness to the 22 veterans who commit suicide daily due to carrying the burdens of PTSD. Also the 10K Ruck is to bring awareness to homelessness in veterans and Mayor Glenn Jacobs new Hero Hill\, a new tiny home for Knox County homeless veterans. The food will be donated to Second Harvest. \nJROTC will compete for the Ridge Cup for the High School Jr ROTC and the JROTC teams which will be sponsored so there is no cost to the students. R2Factor is also working with the JROTC teams. \nSign up for one of the following: 5K; 10K; Fun Walk/Run; Supporter here. \nCheck in and on site registration starts at 8:00 AM. Race starts at 9:00 a.m.  \nStarting Line:   Lincoln Park Technology Trade Center (535 Chickamauga Ave) \nFor More Information Contact: Marilyn Childress\, (678) 920-1989\, President@VeteransHeritageSite.org \n2026 handout Ridge Run April 25 flyer Mayors
URL:https://ambcknox.org/event/8th-annual-veterans-heritage-ridge-run/
LOCATION:Sharps Ridge Park\, Sharps Ridge Memorial Park Drive\, Knoxville\, 37917
CATEGORIES:Fundraisers,Races,Regional Events
ORGANIZER;CN="Veteran Heritage Site Foundation":MAILTO:President@VeteransHeritageSite.org
GEO:36.0039273;-83.9420337
X-APPLE-STRUCTURED-LOCATION;VALUE=URI;X-ADDRESS=Sharps Ridge Park Sharps Ridge Memorial Park Drive Knoxville 37917;X-APPLE-RADIUS=500;X-TITLE=Sharps Ridge Memorial Park Drive:geo:-83.9420337,36.0039273
END:VEVENT
BEGIN:VEVENT
DTSTART;VALUE=DATE:20261106
DTEND;VALUE=DATE:20261109
DTSTAMP:20260423T073311
CREATED:20260107T171121Z
LAST-MODIFIED:20260107T171121Z
UID:10000515-1793923200-1794182399@ambcknox.org
SUMMARY:17TH ANNUAL AMBC FALL FEST
DESCRIPTION:Fall Fest is AMBC’s annual homecoming — a celebration of trails\, community\, and the people who make it all happen. Each year\, folks from across the country (and even around the world!) come together in Knoxville’s Urban Wilderness for group rides\, live music\, local food\, beer\, a massive raffle\, and one of the best silent auctions! \nIt’s more than just a party\, it’s our biggest fundraiser of the year. All proceeds support AMBC’s mission to build\, maintain\, and advocate for trails while expanding access to the outdoors through key programs like our new Trail Blazers\, Joy Ride\, Monthly Work Parties\, Volunteer Sawyers\, and our Trail Crew. \nWe offer free camping onsite\, and the weekend is a chance to reconnect with old friends\, welcome new faces\, and celebrate the trails that connect us all. \nWhether you’re showing up to ride\, volunteer\, dance\, or just hang out — Fall Fest is for you!!!
URL:https://ambcknox.org/event/17th-annual-ambc-fall-fest/
LOCATION:Baker Creek Preserve\, 1516 Taylor Road\, Knoxville\, TN\, 37920\, United States
CATEGORIES:Fundraisers,Group Rides,Parties,Regional Events,Volunteer Opportunities
ORGANIZER;CN="Appalachian Mountain Bike Club":MAILTO:info@ambcknox.org
GEO:35.942899;-83.890728
X-APPLE-STRUCTURED-LOCATION;VALUE=URI;X-ADDRESS=Baker Creek Preserve 1516 Taylor Road Knoxville TN 37920 United States;X-APPLE-RADIUS=500;X-TITLE=1516 Taylor Road:geo:-83.890728,35.942899
END:VEVENT
END:VCALENDAR