BEGIN:VCALENDAR
VERSION:2.0
PRODID:-//Appalachian Mountain Bike Club - ECPv6.15.20//NONSGML v1.0//EN
CALSCALE:GREGORIAN
METHOD:PUBLISH
X-WR-CALNAME:Appalachian Mountain Bike Club
X-ORIGINAL-URL:https://ambcknox.org
X-WR-CALDESC:Events for Appalachian Mountain Bike Club
REFRESH-INTERVAL;VALUE=DURATION:PT1H
X-Robots-Tag:noindex
X-PUBLISHED-TTL:PT1H
BEGIN:VTIMEZONE
TZID:America/New_York
BEGIN:DAYLIGHT
TZOFFSETFROM:-0500
TZOFFSETTO:-0400
TZNAME:EDT
DTSTART:20200308T070000
END:DAYLIGHT
BEGIN:STANDARD
TZOFFSETFROM:-0400
TZOFFSETTO:-0500
TZNAME:EST
DTSTART:20201101T060000
END:STANDARD
BEGIN:DAYLIGHT
TZOFFSETFROM:-0500
TZOFFSETTO:-0400
TZNAME:EDT
DTSTART:20210314T070000
END:DAYLIGHT
BEGIN:STANDARD
TZOFFSETFROM:-0400
TZOFFSETTO:-0500
TZNAME:EST
DTSTART:20211107T060000
END:STANDARD
BEGIN:DAYLIGHT
TZOFFSETFROM:-0500
TZOFFSETTO:-0400
TZNAME:EDT
DTSTART:20220313T070000
END:DAYLIGHT
BEGIN:STANDARD
TZOFFSETFROM:-0400
TZOFFSETTO:-0500
TZNAME:EST
DTSTART:20221106T060000
END:STANDARD
END:VTIMEZONE
BEGIN:VEVENT
DTSTART;TZID=America/New_York:20210706T180000
DTEND;TZID=America/New_York:20210706T210000
DTSTAMP:20260423T110134
CREATED:20230521T002358Z
LAST-MODIFIED:20230521T002358Z
UID:10000147-1625594400-1625605200@ambcknox.org
SUMMARY:BIG FUN TUESDAYS at Meads Quarry
DESCRIPTION:If it’s dry then we RIDE\, EAT\, and SWIM. Hosted by Ijams Nature Center featuring food\, drinks\, and live music from time to time. \nDay of rain plans on Instagram and Facebook event.
URL:https://ambcknox.org/event/big-fun-tuesdays-at-meads-quarry/2021-07-06/
LOCATION:Meads Quarry\, 3526 Island Home Pike\, Knoxville\, TN\, 37920\, United States
CATEGORIES:Group Rides,Parties
ATTACH;FMTTYPE=image/jpeg:https://ambcknox.org/site/wp-content/uploads/2021/05/Big-Fun-Tuesday-FB-Event-a.jpg
ORGANIZER;CN="Appalachian Mountain Bike Club":MAILTO:info@ambcknox.org
GEO:35.9522893;-83.865295
X-APPLE-STRUCTURED-LOCATION;VALUE=URI;X-ADDRESS=Meads Quarry 3526 Island Home Pike Knoxville TN 37920 United States;X-APPLE-RADIUS=500;X-TITLE=3526 Island Home Pike:geo:-83.865295,35.9522893
END:VEVENT
BEGIN:VEVENT
DTSTART;TZID=America/New_York:20210711T083000
DTEND;TZID=America/New_York:20210711T113000
DTSTAMP:20260423T110134
CREATED:20210607T175454Z
LAST-MODIFIED:20210629T114645Z
UID:10000154-1625992200-1626003000@ambcknox.org
SUMMARY:Group Ride - Preview Aspire MTB Park
DESCRIPTION:Join AMBC’s 1st president Randy Conner for a member ride at Aspire MTB Park in Clinton\, TN. Ride will meet at Ingles at 190 Clinch Ave\, Clinton\, TN 37716\nNot a current AMBC or SORBA member? No worries\, sign up today!
URL:https://ambcknox.org/event/group-ride-preview-aspire-mtb-park-2/
CATEGORIES:Group Rides,Regional Events
END:VEVENT
BEGIN:VEVENT
DTSTART;TZID=America/New_York:20210720T180000
DTEND;TZID=America/New_York:20210720T210000
DTSTAMP:20260423T110134
CREATED:20210507T153254Z
LAST-MODIFIED:20210507T153432Z
UID:10000142-1626804000-1626814800@ambcknox.org
SUMMARY:BIG FUN TUESDAYS at Meads Quarry
DESCRIPTION:If it’s dry then we RIDE\, EAT\, and SWIM. Hosted by Ijams Nature Center featuring food\, drinks\, and live music from time to time. \nDay of rain plans on Instagram and Facebook event.
URL:https://ambcknox.org/event/big-fun-tuesdays-at-meads-quarry/2021-07-20/
LOCATION:Meads Quarry\, 3526 Island Home Pike\, Knoxville\, TN\, 37920\, United States
CATEGORIES:Group Rides,Parties
ATTACH;FMTTYPE=image/jpeg:https://ambcknox.org/site/wp-content/uploads/2021/05/Big-Fun-Tuesday-FB-Event-a.jpg
ORGANIZER;CN="Appalachian Mountain Bike Club":MAILTO:info@ambcknox.org
GEO:35.9522893;-83.865295
X-APPLE-STRUCTURED-LOCATION;VALUE=URI;X-ADDRESS=Meads Quarry 3526 Island Home Pike Knoxville TN 37920 United States;X-APPLE-RADIUS=500;X-TITLE=3526 Island Home Pike:geo:-83.865295,35.9522893
END:VEVENT
BEGIN:VEVENT
DTSTART;TZID=America/New_York:20210725T100000
DTEND;TZID=America/New_York:20210725T160000
DTSTAMP:20260423T110134
CREATED:20210719T123843Z
LAST-MODIFIED:20210719T123927Z
UID:10000157-1627207200-1627228800@ambcknox.org
SUMMARY:Sunday Senders Session
DESCRIPTION:With support from Knox Brew Tours\, Knoxville Outdoor Tours\, and Harper’s Bike Shop join AMBC for shuttles on Devils Race Track at Baker Creek from 10 -4. Meet at the bottom of Pappys Way to sign a waiver and hop on the shuttle. Suggested donation – $10
URL:https://ambcknox.org/event/sunday-senders-session/
LOCATION:Baker Creek Preserve\, 1516 Taylor Road\, Knoxville\, TN\, 37920\, United States
CATEGORIES:Group Rides,Parties
ATTACH;FMTTYPE=image/jpeg:https://ambcknox.org/site/wp-content/uploads/2021/07/sunday-senders-event-header.jpg
ORGANIZER;CN="Appalachian Mountain Bike Club":MAILTO:info@ambcknox.org
GEO:35.942899;-83.890728
X-APPLE-STRUCTURED-LOCATION;VALUE=URI;X-ADDRESS=Baker Creek Preserve 1516 Taylor Road Knoxville TN 37920 United States;X-APPLE-RADIUS=500;X-TITLE=1516 Taylor Road:geo:-83.890728,35.942899
END:VEVENT
END:VCALENDAR