BEGIN:VCALENDAR
VERSION:2.0
PRODID:-//Appalachian Mountain Bike Club - ECPv6.15.20//NONSGML v1.0//EN
CALSCALE:GREGORIAN
METHOD:PUBLISH
X-ORIGINAL-URL:https://ambcknox.org
X-WR-CALDESC:Events for Appalachian Mountain Bike Club
REFRESH-INTERVAL;VALUE=DURATION:PT1H
X-Robots-Tag:noindex
X-PUBLISHED-TTL:PT1H
BEGIN:VTIMEZONE
TZID:America/New_York
BEGIN:DAYLIGHT
TZOFFSETFROM:-0500
TZOFFSETTO:-0400
TZNAME:EDT
DTSTART:20200308T070000
END:DAYLIGHT
BEGIN:STANDARD
TZOFFSETFROM:-0400
TZOFFSETTO:-0500
TZNAME:EST
DTSTART:20201101T060000
END:STANDARD
BEGIN:DAYLIGHT
TZOFFSETFROM:-0500
TZOFFSETTO:-0400
TZNAME:EDT
DTSTART:20210314T070000
END:DAYLIGHT
BEGIN:STANDARD
TZOFFSETFROM:-0400
TZOFFSETTO:-0500
TZNAME:EST
DTSTART:20211107T060000
END:STANDARD
BEGIN:DAYLIGHT
TZOFFSETFROM:-0500
TZOFFSETTO:-0400
TZNAME:EDT
DTSTART:20220313T070000
END:DAYLIGHT
BEGIN:STANDARD
TZOFFSETFROM:-0400
TZOFFSETTO:-0500
TZNAME:EST
DTSTART:20221106T060000
END:STANDARD
END:VTIMEZONE
BEGIN:VEVENT
DTSTART;TZID=America/New_York:20211002T100000
DTEND;TZID=America/New_York:20211002T220000
DTSTAMP:20260423T071448
CREATED:20210922T150837Z
LAST-MODIFIED:20210922T153610Z
UID:10000067-1633168800-1633212000@ambcknox.org
SUMMARY:Hill of Truth - Presented by Clinch Valley Trail Alliance
DESCRIPTION:Put it on your calendar – this race is a staple for East Tennessee mountain biking!
URL:https://ambcknox.org/event/hill-of-truth-presented-by-clinch-valley-trail-alliance/
LOCATION:Haw Ridge\, 205 Old Edgemoor Road\, Oak Ridge\, TN\, 37830\, United States
CATEGORIES:Group Rides,Parties,Races,Regional Events,Volunteer Opportunities
GEO:36.0101398;-84.1675426
X-APPLE-STRUCTURED-LOCATION;VALUE=URI;X-ADDRESS=Haw Ridge 205 Old Edgemoor Road Oak Ridge TN 37830 United States;X-APPLE-RADIUS=500;X-TITLE=205 Old Edgemoor Road:geo:-84.1675426,36.0101398
END:VEVENT
BEGIN:VEVENT
DTSTART;TZID=America/New_York:20211005T180000
DTEND;TZID=America/New_York:20211005T210000
DTSTAMP:20260423T071448
CREATED:20230521T002358Z
LAST-MODIFIED:20230521T002358Z
UID:10000150-1633456800-1633467600@ambcknox.org
SUMMARY:BIG FUN TUESDAYS at Meads Quarry
DESCRIPTION:If it’s dry then we RIDE\, EAT\, and SWIM. Hosted by Ijams Nature Center featuring food\, drinks\, and live music from time to time. \nDay of rain plans on Instagram and Facebook event.
URL:https://ambcknox.org/event/big-fun-tuesdays-at-meads-quarry/2021-10-05/
LOCATION:Meads Quarry\, 3526 Island Home Pike\, Knoxville\, TN\, 37920\, United States
CATEGORIES:Group Rides,Parties
ATTACH;FMTTYPE=image/jpeg:https://ambcknox.org/site/wp-content/uploads/2021/05/Big-Fun-Tuesday-FB-Event-a.jpg
ORGANIZER;CN="Appalachian Mountain Bike Club":MAILTO:info@ambcknox.org
GEO:35.9522893;-83.865295
X-APPLE-STRUCTURED-LOCATION;VALUE=URI;X-ADDRESS=Meads Quarry 3526 Island Home Pike Knoxville TN 37920 United States;X-APPLE-RADIUS=500;X-TITLE=3526 Island Home Pike:geo:-83.865295,35.9522893
END:VEVENT
BEGIN:VEVENT
DTSTART;TZID=America/New_York:20211019T180000
DTEND;TZID=America/New_York:20211019T210000
DTSTAMP:20260423T071448
CREATED:20210507T153254Z
LAST-MODIFIED:20210507T153432Z
UID:10000145-1634666400-1634677200@ambcknox.org
SUMMARY:BIG FUN TUESDAYS at Meads Quarry
DESCRIPTION:If it’s dry then we RIDE\, EAT\, and SWIM. Hosted by Ijams Nature Center featuring food\, drinks\, and live music from time to time. \nDay of rain plans on Instagram and Facebook event.
URL:https://ambcknox.org/event/big-fun-tuesdays-at-meads-quarry/2021-10-19/
LOCATION:Meads Quarry\, 3526 Island Home Pike\, Knoxville\, TN\, 37920\, United States
CATEGORIES:Group Rides,Parties
ATTACH;FMTTYPE=image/jpeg:https://ambcknox.org/site/wp-content/uploads/2021/05/Big-Fun-Tuesday-FB-Event-a.jpg
ORGANIZER;CN="Appalachian Mountain Bike Club":MAILTO:info@ambcknox.org
GEO:35.9522893;-83.865295
X-APPLE-STRUCTURED-LOCATION;VALUE=URI;X-ADDRESS=Meads Quarry 3526 Island Home Pike Knoxville TN 37920 United States;X-APPLE-RADIUS=500;X-TITLE=3526 Island Home Pike:geo:-83.865295,35.9522893
END:VEVENT
END:VCALENDAR