BEGIN:VCALENDAR
VERSION:2.0
PRODID:-//Appalachian Mountain Bike Club - ECPv6.15.20//NONSGML v1.0//EN
CALSCALE:GREGORIAN
METHOD:PUBLISH
X-WR-CALNAME:Appalachian Mountain Bike Club
X-ORIGINAL-URL:https://ambcknox.org
X-WR-CALDESC:Events for Appalachian Mountain Bike Club
REFRESH-INTERVAL;VALUE=DURATION:PT1H
X-Robots-Tag:noindex
X-PUBLISHED-TTL:PT1H
BEGIN:VTIMEZONE
TZID:America/New_York
BEGIN:DAYLIGHT
TZOFFSETFROM:-0500
TZOFFSETTO:-0400
TZNAME:EDT
DTSTART:20220313T070000
END:DAYLIGHT
BEGIN:STANDARD
TZOFFSETFROM:-0400
TZOFFSETTO:-0500
TZNAME:EST
DTSTART:20221106T060000
END:STANDARD
BEGIN:DAYLIGHT
TZOFFSETFROM:-0500
TZOFFSETTO:-0400
TZNAME:EDT
DTSTART:20230312T070000
END:DAYLIGHT
BEGIN:STANDARD
TZOFFSETFROM:-0400
TZOFFSETTO:-0500
TZNAME:EST
DTSTART:20231105T060000
END:STANDARD
BEGIN:DAYLIGHT
TZOFFSETFROM:-0500
TZOFFSETTO:-0400
TZNAME:EDT
DTSTART:20240310T070000
END:DAYLIGHT
BEGIN:STANDARD
TZOFFSETFROM:-0400
TZOFFSETTO:-0500
TZNAME:EST
DTSTART:20241103T060000
END:STANDARD
END:VTIMEZONE
BEGIN:VEVENT
DTSTART;TZID=America/New_York:20230709T090000
DTEND;TZID=America/New_York:20230709T120000
DTSTAMP:20260422T035827
CREATED:20230626T181130Z
LAST-MODIFIED:20230626T204552Z
UID:10000230-1688893200-1688904000@ambcknox.org
SUMMARY:I.C. King Beginner Joy Ride!!!
DESCRIPTION:Sunday\, July 9th 9:00 AM – 12:00 PM. Meet at the IC King Dog Park. \nCalling all BEGINNER mountain bikers! Joy Ride wants to see you at IC King!!! Grab a friend or make some new ones at this event for female\, female-identifying\, and non-binary riders. \nIf you are new to mountain biking\, looking to feel more comfortable on dirt\, or just want to try out new trails with a fun group\, this ride is for you! \nThis event is free\, but please register by July 8th. This helps us ensure we have enough volunteers and supplies. \nJoy Ride is here to help women feel comfortable in the woods. No one gets left behind\, and everyone leaves with a big smile. We make sure every rider is comfortable with the group’s pace and that no section of trail is beyond the ability level of the group. We have options for all skill levels\, so come party on single track with us!! \nPlease bring your helmet\, shoes\, ride snacks\, water\, and a way to carry it on your ride! Bring a spare tube if you have one. PLEASE arrive before 9:30 AM for sign-in! Thank you! \nJoy Ride Full Event Schedule \n9:00 – 9:30 \n\nSign in\nMix and mingle with the other attendees\n\n9:30 – 9:45 \n\nAnnouncements\nMeet your group leaders\n\n9:45 – 11:30 \n\nRide and have fun!\n\n11:30 – 12:00 \n\nThank your ride leaders\, sweeps\, and fellow riders for such a fun morning!\n\nRide leaders needed! \nWe are always looking for ride leaders and sweeps to lead our ride groups in a fun and safe manner. If you are a confident rider with a genuine interest in sharing your love of the sport and knowledge of the trails\, please select “volunteer” in the ticket option below and be on the lookout for an email from madelineshelly@gmail.com. You don’t have to be an advanced rider to volunteer; just be confident at the level you choose in the follow-up form. \nRiding Levels \nNew Rider: I’m entirely new to mountain biking\, or I’ve attempted a couple of rides but would love to receive a little coaching. You will get on the dirt\, get comfortable with your bike\, gear\, and learn some basic mountain biking skills. \nDistance: Under 5 miles \nBeginner: I’m relatively new to mtb. I like it and want to learn about how to be comfortable on varied terrain with more technical features. \nDistance: 5- 7 miles \nBeginner Plus: I’m comfortable on green and most blue trails. I’m venturing out onto harder trails\, but still have to walk some of the more technical features. \nDistance: Under 10 miles \nVolunteer: I’m a confident rider. I know the trails well\, and I’d love to help out as a ride leader or sweep! There will be a separate form for you to list your volunteer preferences. You don’t have to be an advanced rider to volunteer; just be confident at the level you choose in the volunteer form. \n*Rides are subject to change based on weather and group consensus. Stay tuned for more info & updates.
URL:https://ambcknox.org/event/i-c-king-beginner-joy-ride/
LOCATION:I.C. King Park via Maryville Pike\, 2625 Maryville Pike\, Knoxville\, TN\, 37920\, United States
CATEGORIES:Group Rides,Joy Ride,Volunteer Opportunities
ATTACH;FMTTYPE=image/jpeg:https://ambcknox.org/site/wp-content/uploads/2023/06/image0.jpeg
ORGANIZER;CN="Appalachian Mountain Bike Club":MAILTO:info@ambcknox.org
GEO:35.891182;-83.952343
X-APPLE-STRUCTURED-LOCATION;VALUE=URI;X-ADDRESS=I.C. King Park via Maryville Pike 2625 Maryville Pike Knoxville TN 37920 United States;X-APPLE-RADIUS=500;X-TITLE=2625 Maryville Pike:geo:-83.952343,35.891182
END:VEVENT
BEGIN:VEVENT
DTSTART;TZID=America/New_York:20230710T180000
DTEND;TZID=America/New_York:20230710T210000
DTSTAMP:20260422T035827
CREATED:20230625T182201Z
LAST-MODIFIED:20230625T182202Z
UID:10000225-1689012000-1689022800@ambcknox.org
SUMMARY:South Loop Summer Session #2
DESCRIPTION:REGISTER HERE!!!
URL:https://ambcknox.org/event/south-loop-summer-session-2/
LOCATION:Anderson School\, 4808 Prospect Rd\, Knoxville\, TN\, 37920\, United States
CATEGORIES:Group Rides,Joy Ride,Volunteer Opportunities
ATTACH;FMTTYPE=image/jpeg:https://ambcknox.org/site/wp-content/uploads/2023/06/SOUTH-LOOP-SUMMER-SESSION-2.jpeg
ORGANIZER;CN="Appalachian Mountain Bike Club":MAILTO:info@ambcknox.org
GEO:35.929025;-83.865511
X-APPLE-STRUCTURED-LOCATION;VALUE=URI;X-ADDRESS=Anderson School 4808 Prospect Rd Knoxville TN 37920 United States;X-APPLE-RADIUS=500;X-TITLE=4808 Prospect Rd:geo:-83.865511,35.929025
END:VEVENT
BEGIN:VEVENT
DTSTART;TZID=America/New_York:20230717T180000
DTEND;TZID=America/New_York:20230717T210000
DTSTAMP:20260422T035827
CREATED:20230625T182638Z
LAST-MODIFIED:20230625T182638Z
UID:10000226-1689616800-1689627600@ambcknox.org
SUMMARY:South Loop Summer Session #3
DESCRIPTION:REGISTER HERE!!!
URL:https://ambcknox.org/event/south-loop-summer-session-3/
LOCATION:Forks of the River WMA\, 3179 McClure Ln\, Knoxville\, TN\, 37920\, United States
CATEGORIES:Group Rides,Joy Ride,Volunteer Opportunities
ATTACH;FMTTYPE=image/jpeg:https://ambcknox.org/site/wp-content/uploads/2023/06/SOUTH-LOOP-SUMMER-SESSION-3.jpeg
ORGANIZER;CN="Appalachian Mountain Bike Club":MAILTO:info@ambcknox.org
GEO:35.952745;-83.8589209
X-APPLE-STRUCTURED-LOCATION;VALUE=URI;X-ADDRESS=Forks of the River WMA 3179 McClure Ln Knoxville TN 37920 United States;X-APPLE-RADIUS=500;X-TITLE=3179 McClure Ln:geo:-83.8589209,35.952745
END:VEVENT
BEGIN:VEVENT
DTSTART;TZID=America/New_York:20230731T180000
DTEND;TZID=America/New_York:20230731T210000
DTSTAMP:20260422T035827
CREATED:20230625T182906Z
LAST-MODIFIED:20230625T182930Z
UID:10000227-1690826400-1690837200@ambcknox.org
SUMMARY:South Loop Summer Session #4
DESCRIPTION:REGISTER HERE!!!
URL:https://ambcknox.org/event/south-loop-summer-session-4/
LOCATION:Meads Quarry\, 3526 Island Home Pike\, Knoxville\, TN\, 37920\, United States
CATEGORIES:Group Rides,Joy Ride,Volunteer Opportunities
ATTACH;FMTTYPE=image/jpeg:https://ambcknox.org/site/wp-content/uploads/2023/06/SOUTH-LOOP-SUMMER-SESSION-4.jpeg
ORGANIZER;CN="Appalachian Mountain Bike Club":MAILTO:info@ambcknox.org
GEO:35.9522893;-83.865295
X-APPLE-STRUCTURED-LOCATION;VALUE=URI;X-ADDRESS=Meads Quarry 3526 Island Home Pike Knoxville TN 37920 United States;X-APPLE-RADIUS=500;X-TITLE=3526 Island Home Pike:geo:-83.865295,35.9522893
END:VEVENT
END:VCALENDAR