BEGIN:VCALENDAR
VERSION:2.0
PRODID:-//Appalachian Mountain Bike Club - ECPv6.15.20//NONSGML v1.0//EN
CALSCALE:GREGORIAN
METHOD:PUBLISH
X-WR-CALNAME:Appalachian Mountain Bike Club
X-ORIGINAL-URL:https://ambcknox.org
X-WR-CALDESC:Events for Appalachian Mountain Bike Club
REFRESH-INTERVAL;VALUE=DURATION:PT1H
X-Robots-Tag:noindex
X-PUBLISHED-TTL:PT1H
BEGIN:VTIMEZONE
TZID:America/New_York
BEGIN:DAYLIGHT
TZOFFSETFROM:-0500
TZOFFSETTO:-0400
TZNAME:EDT
DTSTART:20210314T070000
END:DAYLIGHT
BEGIN:STANDARD
TZOFFSETFROM:-0400
TZOFFSETTO:-0500
TZNAME:EST
DTSTART:20211107T060000
END:STANDARD
BEGIN:DAYLIGHT
TZOFFSETFROM:-0500
TZOFFSETTO:-0400
TZNAME:EDT
DTSTART:20220313T070000
END:DAYLIGHT
BEGIN:STANDARD
TZOFFSETFROM:-0400
TZOFFSETTO:-0500
TZNAME:EST
DTSTART:20221106T060000
END:STANDARD
BEGIN:DAYLIGHT
TZOFFSETFROM:-0500
TZOFFSETTO:-0400
TZNAME:EDT
DTSTART:20230312T070000
END:DAYLIGHT
BEGIN:STANDARD
TZOFFSETFROM:-0400
TZOFFSETTO:-0500
TZNAME:EST
DTSTART:20231105T060000
END:STANDARD
END:VTIMEZONE
BEGIN:VEVENT
DTSTART;TZID=America/New_York:20220305T090000
DTEND;TZID=America/New_York:20220305T120000
DTSTAMP:20260423T060211
CREATED:20220125T161850Z
LAST-MODIFIED:20220301T204308Z
UID:10000170-1646470800-1646481600@ambcknox.org
SUMMARY:Work Party – MEGA Hastie build day!!!
DESCRIPTION:ALL HANDS ON DECK!!!! We’ll be working at William Hastie on new trails\, clearing invasive plants\, and building bridges!!! Major support for the Hastie trails comes from Harper Auto Square. We’ll meet at 9am at the Anderson School trailhead and carpool over to our project area. Harper’s Bike Shop will serve up  lunch at noon – We’ll have drinks and beers from Three Taverns Brewery! \nAs usual\, AMBC will provide the tools\, just come prepared to work with sturdy shoes\, gloves\, safety glasses\, and water. \nCAN YOU DIG IT?
URL:https://ambcknox.org/event/work-party-mega-hastie-build-day/
LOCATION:Anderson School\, 4808 Prospect Rd\, Knoxville\, TN\, 37920\, United States
CATEGORIES:Meetings,Parties,Regional Events,Volunteer Opportunities,Work Parties
ATTACH;FMTTYPE=image/jpeg:https://ambcknox.org/site/wp-content/uploads/2022/01/mega-work-party-event.jpg
ORGANIZER;CN="Appalachian Mountain Bike Club":MAILTO:info@ambcknox.org
GEO:35.929025;-83.865511
X-APPLE-STRUCTURED-LOCATION;VALUE=URI;X-ADDRESS=Anderson School 4808 Prospect Rd Knoxville TN 37920 United States;X-APPLE-RADIUS=500;X-TITLE=4808 Prospect Rd:geo:-83.865511,35.929025
END:VEVENT
BEGIN:VEVENT
DTSTART;TZID=America/New_York:20220328T190000
DTEND;TZID=America/New_York:20220328T200000
DTSTAMP:20260423T060211
CREATED:20200221T171439Z
LAST-MODIFIED:20230419T155902Z
UID:10000097-1648494000-1648497600@ambcknox.org
SUMMARY:AMBC Meeting at Southside Garage
DESCRIPTION:Get the latest updates from AMBC at our monthly meeting at our new location – Southside Garage!!! \nOur friends from South Coast Pizza will have pizza by the slice available. Come early to enjoy some beverages\, doors open at 6:30 and we’ll get down to business at 7. \nHave something to add? Get it to info@ambcknox.org \nPlease see the image below for Public Parking\, Please be respectful of our neighbors and neighborhoods and park in public lots – when in doubt – RIDE YOUR BIKE\, or park at Suttree Landing Park. \nCheers!!! \n 
URL:https://ambcknox.org/event/ambc-meeting-hybrid/2022-03-28/
LOCATION:Southside Garage\, 1014 Sevier Avenue\, Knoxville\, Tennessee\, 37920
CATEGORIES:Meetings
ATTACH;FMTTYPE=image/jpeg:https://ambcknox.org/site/wp-content/uploads/2020/01/monthly-meeting-3.jpg
ORGANIZER;CN="Appalachian Mountain Bike Club":MAILTO:info@ambcknox.org
GEO:35.9588669;-83.9050206
X-APPLE-STRUCTURED-LOCATION;VALUE=URI;X-ADDRESS=Southside Garage 1014 Sevier Avenue Knoxville Tennessee 37920;X-APPLE-RADIUS=500;X-TITLE=1014 Sevier Avenue:geo:-83.9050206,35.9588669
END:VEVENT
END:VCALENDAR