BEGIN:VCALENDAR
VERSION:2.0
PRODID:-//Appalachian Mountain Bike Club - ECPv6.15.20//NONSGML v1.0//EN
CALSCALE:GREGORIAN
METHOD:PUBLISH
X-WR-CALNAME:Appalachian Mountain Bike Club
X-ORIGINAL-URL:https://ambcknox.org
X-WR-CALDESC:Events for Appalachian Mountain Bike Club
REFRESH-INTERVAL;VALUE=DURATION:PT1H
X-Robots-Tag:noindex
X-PUBLISHED-TTL:PT1H
BEGIN:VTIMEZONE
TZID:America/New_York
BEGIN:DAYLIGHT
TZOFFSETFROM:-0500
TZOFFSETTO:-0400
TZNAME:EDT
DTSTART:20210314T070000
END:DAYLIGHT
BEGIN:STANDARD
TZOFFSETFROM:-0400
TZOFFSETTO:-0500
TZNAME:EST
DTSTART:20211107T060000
END:STANDARD
BEGIN:DAYLIGHT
TZOFFSETFROM:-0500
TZOFFSETTO:-0400
TZNAME:EDT
DTSTART:20220313T070000
END:DAYLIGHT
BEGIN:STANDARD
TZOFFSETFROM:-0400
TZOFFSETTO:-0500
TZNAME:EST
DTSTART:20221106T060000
END:STANDARD
BEGIN:DAYLIGHT
TZOFFSETFROM:-0500
TZOFFSETTO:-0400
TZNAME:EDT
DTSTART:20230312T070000
END:DAYLIGHT
BEGIN:STANDARD
TZOFFSETFROM:-0400
TZOFFSETTO:-0500
TZNAME:EST
DTSTART:20231105T060000
END:STANDARD
END:VTIMEZONE
BEGIN:VEVENT
DTSTART;VALUE=DATE:20220603
DTEND;VALUE=DATE:20220606
DTSTAMP:20260423T023215
CREATED:20220125T164630Z
LAST-MODIFIED:20221006T173805Z
UID:10000174-1654214400-1654473599@ambcknox.org
SUMMARY:National Trails Weekend with Work Party and Epic Rides
DESCRIPTION:Join us to celebrate National Trail Day with a weekend of fun at Big South Fork!!! We’ll camp at the group campsite\, work with the Big South Fork Bike Club\, and Ride BIKES! \nThe Details: \nCAMP\nGroup site E1 at Bandy Creek Campground is reserved!!! First come\, first serve camping. There are no hookups\, but plenty of sites to choose from and all are an easy stroll to the campfire\, pavilion\, and bathhouse. We have the site reserved from Friday afternoon – Monday morning. \nWORK\nWe’ll meet at the Bandy Creek Visitors Center at 8:30\, Our good friends with the Big South Fork Bike Club will have our work projects ready and AMBC will have all the tools you’ll need for the day. You bing a friend\, sturdy shoes\, safety glasses\, and water! At noon we’ll meet back at Bandy Creek for Lunch and Beers. \nEAT\nSaturday lunch is provided by Joe and his crew with the Big South Fork Bike Club. Saturday Evening AMBC will host dinner at the group site pavilion! \nRIDE\nPost workday social rides are organized based on what various groups are interested in. Remember Big South Fork is home to an IMBA Epic ride route. Sunday social rides are encouraged and this year AMBC Joy Ride will lead a women’s only ride please register for the the ride HERE. THE EPIC ride is also a Sunday option. The ride is one of legend\, a ride that typically takes everything you can muster plus a bit more. Rarely repeated\, uphills both ways and always a backcountry adventure\, it’ll be EPIC. Those who are prepared for 30 miles of self supported riding in the summer heat are gonna love it.
URL:https://ambcknox.org/event/national-trails-weekend-with-work-party-and-epic-rides/
LOCATION:Big South Fork – Bandy Creek\, Bandy Loop\, Oneida\, 37841
CATEGORIES:Group Rides,Joy Ride,Meetings,Parties,Regional Events,Volunteer Opportunities,Work Parties
ATTACH;FMTTYPE=image/jpeg:https://ambcknox.org/site/wp-content/uploads/2015/01/11137088_921311414558497_5848653051232404661_n-1.jpg
ORGANIZER;CN="Appalachian Mountain Bike Club":MAILTO:info@ambcknox.org
GEO:36.4884726;-84.6973425
X-APPLE-STRUCTURED-LOCATION;VALUE=URI;X-ADDRESS=Big South Fork – Bandy Creek Bandy Loop Oneida 37841;X-APPLE-RADIUS=500;X-TITLE=Bandy Loop:geo:-84.6973425,36.4884726
END:VEVENT
BEGIN:VEVENT
DTSTART;TZID=America/New_York:20220607T170000
DTEND;TZID=America/New_York:20220607T203000
DTSTAMP:20260423T023215
CREATED:20220523T165721Z
LAST-MODIFIED:20220523T165721Z
UID:10000182-1654621200-1654633800@ambcknox.org
SUMMARY:BIG FUN TUESDAY!!!
DESCRIPTION:
URL:https://ambcknox.org/event/big-fun-tuesday/
LOCATION:Meads Quarry\, 3526 Island Home Pike\, Knoxville\, TN\, 37920\, United States
CATEGORIES:Group Rides,Meetings,Parties,Regional Events
ATTACH;FMTTYPE=image/jpeg:https://ambcknox.org/site/wp-content/uploads/2022/05/Screen-Shot-2022-05-20-at-8.36.17-PM.jpg
GEO:35.9522893;-83.865295
X-APPLE-STRUCTURED-LOCATION;VALUE=URI;X-ADDRESS=Meads Quarry 3526 Island Home Pike Knoxville TN 37920 United States;X-APPLE-RADIUS=500;X-TITLE=3526 Island Home Pike:geo:-83.865295,35.9522893
END:VEVENT
BEGIN:VEVENT
DTSTART;TZID=America/New_York:20220627T190000
DTEND;TZID=America/New_York:20220627T200000
DTSTAMP:20260423T023215
CREATED:20200221T171439Z
LAST-MODIFIED:20230419T155902Z
UID:10000099-1656356400-1656360000@ambcknox.org
SUMMARY:AMBC Meeting at Southside Garage
DESCRIPTION:Get the latest updates from AMBC at our monthly meeting at our new location – Southside Garage!!! \nOur friends from South Coast Pizza will have pizza by the slice available. Come early to enjoy some beverages\, doors open at 6:30 and we’ll get down to business at 7. \nHave something to add? Get it to info@ambcknox.org \nPlease see the image below for Public Parking\, Please be respectful of our neighbors and neighborhoods and park in public lots – when in doubt – RIDE YOUR BIKE\, or park at Suttree Landing Park. \nCheers!!! \n 
URL:https://ambcknox.org/event/ambc-meeting-hybrid/2022-06-27/
LOCATION:Southside Garage\, 1014 Sevier Avenue\, Knoxville\, Tennessee\, 37920
CATEGORIES:Meetings
ATTACH;FMTTYPE=image/jpeg:https://ambcknox.org/site/wp-content/uploads/2020/01/monthly-meeting-3.jpg
ORGANIZER;CN="Appalachian Mountain Bike Club":MAILTO:info@ambcknox.org
GEO:35.9588669;-83.9050206
X-APPLE-STRUCTURED-LOCATION;VALUE=URI;X-ADDRESS=Southside Garage 1014 Sevier Avenue Knoxville Tennessee 37920;X-APPLE-RADIUS=500;X-TITLE=1014 Sevier Avenue:geo:-83.9050206,35.9588669
END:VEVENT
BEGIN:VEVENT
DTSTART;TZID=America/New_York:20220627T190000
DTEND;TZID=America/New_York:20220627T200000
DTSTAMP:20260423T023215
CREATED:20200221T171439Z
LAST-MODIFIED:20240524T180119Z
UID:10000247-1656356400-1656360000@ambcknox.org
SUMMARY:AMBC Meeting at Southside Garage
DESCRIPTION:Get the latest updates from AMBC at our monthly meeting at our new location – Southside Garage!!! \nOur friends from South Coast Pizza will have pizza by the slice available. Come early to enjoy some beverages\, doors open at 6:30 and we’ll get down to business at 7. \nHave something to add? Get it to info@ambcknox.org \nPlease see the image below for Public Parking\, Please be respectful of our neighbors and neighborhoods and park in public lots – when in doubt – RIDE YOUR BIKE\, or park at Suttree Landing Park. \n 
URL:https://ambcknox.org/event/ambc-meeting-2022-05-23/2022-06-27/
LOCATION:Southside Garage\, 1014 Sevier Avenue\, Knoxville\, Tennessee\, 37920
CATEGORIES:Meetings
ATTACH;FMTTYPE=image/jpeg:https://ambcknox.org/site/wp-content/uploads/2020/01/monthly-meeting-3.jpg
ORGANIZER;CN="Appalachian Mountain Bike Club":MAILTO:info@ambcknox.org
GEO:35.9588669;-83.9050206
X-APPLE-STRUCTURED-LOCATION;VALUE=URI;X-ADDRESS=Southside Garage 1014 Sevier Avenue Knoxville Tennessee 37920;X-APPLE-RADIUS=500;X-TITLE=1014 Sevier Avenue:geo:-83.9050206,35.9588669
END:VEVENT
END:VCALENDAR