BEGIN:VCALENDAR
VERSION:2.0
PRODID:-//Appalachian Mountain Bike Club - ECPv6.15.20//NONSGML v1.0//EN
CALSCALE:GREGORIAN
METHOD:PUBLISH
X-ORIGINAL-URL:https://ambcknox.org
X-WR-CALDESC:Events for Appalachian Mountain Bike Club
REFRESH-INTERVAL;VALUE=DURATION:PT1H
X-Robots-Tag:noindex
X-PUBLISHED-TTL:PT1H
BEGIN:VTIMEZONE
TZID:America/New_York
BEGIN:DAYLIGHT
TZOFFSETFROM:-0500
TZOFFSETTO:-0400
TZNAME:EDT
DTSTART:20210314T070000
END:DAYLIGHT
BEGIN:STANDARD
TZOFFSETFROM:-0400
TZOFFSETTO:-0500
TZNAME:EST
DTSTART:20211107T060000
END:STANDARD
BEGIN:DAYLIGHT
TZOFFSETFROM:-0500
TZOFFSETTO:-0400
TZNAME:EDT
DTSTART:20220313T070000
END:DAYLIGHT
BEGIN:STANDARD
TZOFFSETFROM:-0400
TZOFFSETTO:-0500
TZNAME:EST
DTSTART:20221106T060000
END:STANDARD
BEGIN:DAYLIGHT
TZOFFSETFROM:-0500
TZOFFSETTO:-0400
TZNAME:EDT
DTSTART:20230312T070000
END:DAYLIGHT
BEGIN:STANDARD
TZOFFSETFROM:-0400
TZOFFSETTO:-0500
TZNAME:EST
DTSTART:20231105T060000
END:STANDARD
END:VTIMEZONE
BEGIN:VEVENT
DTSTART;TZID=America/New_York:20221016T090000
DTEND;TZID=America/New_York:20221016T120000
DTSTAMP:20260422T212304
CREATED:20220926T210305Z
LAST-MODIFIED:20220926T210305Z
UID:10000193-1665910800-1665921600@ambcknox.org
SUMMARY:Adopt-a-road Clean up
DESCRIPTION:Join the crew to clean up a bit of South Knoxville! We’ll meet at the Forks of the River Burnett Creek lot at 9am and work till noon. Food and Beverages will be provided\, as will all the tools needed for the job!
URL:https://ambcknox.org/event/adopt-a-road-clean-up/
LOCATION:Forks of the River WMA – Burnett Creek\, 5907 Burnett Creek Rd\, Knoxville\, TN\, 37920\, United States
CATEGORIES:Meetings,Parties,Volunteer Opportunities,Work Parties
ATTACH;FMTTYPE=image/jpeg:https://ambcknox.org/site/wp-content/uploads/2021/01/adopt-a-road.jpg
ORGANIZER;CN="Appalachian Mountain Bike Club":MAILTO:info@ambcknox.org
GEO:35.9380159;-83.849336
X-APPLE-STRUCTURED-LOCATION;VALUE=URI;X-ADDRESS=Forks of the River WMA – Burnett Creek 5907 Burnett Creek Rd Knoxville TN 37920 United States;X-APPLE-RADIUS=500;X-TITLE=5907 Burnett Creek Rd:geo:-83.849336,35.9380159
END:VEVENT
BEGIN:VEVENT
DTSTART;TZID=America/New_York:20221024T190000
DTEND;TZID=America/New_York:20221024T200000
DTSTAMP:20260422T212304
CREATED:20200221T171439Z
LAST-MODIFIED:20230419T155902Z
UID:10000103-1666638000-1666641600@ambcknox.org
SUMMARY:AMBC Meeting at Southside Garage
DESCRIPTION:Get the latest updates from AMBC at our monthly meeting at our new location – Southside Garage!!! \nOur friends from South Coast Pizza will have pizza by the slice available. Come early to enjoy some beverages\, doors open at 6:30 and we’ll get down to business at 7. \nHave something to add? Get it to info@ambcknox.org \nPlease see the image below for Public Parking\, Please be respectful of our neighbors and neighborhoods and park in public lots – when in doubt – RIDE YOUR BIKE\, or park at Suttree Landing Park. \nCheers!!! \n 
URL:https://ambcknox.org/event/ambc-meeting-hybrid/2022-10-24/
LOCATION:Southside Garage\, 1014 Sevier Avenue\, Knoxville\, Tennessee\, 37920
CATEGORIES:Meetings
ATTACH;FMTTYPE=image/jpeg:https://ambcknox.org/site/wp-content/uploads/2020/01/monthly-meeting-3.jpg
ORGANIZER;CN="Appalachian Mountain Bike Club":MAILTO:info@ambcknox.org
GEO:35.9588669;-83.9050206
X-APPLE-STRUCTURED-LOCATION;VALUE=URI;X-ADDRESS=Southside Garage 1014 Sevier Avenue Knoxville Tennessee 37920;X-APPLE-RADIUS=500;X-TITLE=1014 Sevier Avenue:geo:-83.9050206,35.9588669
END:VEVENT
BEGIN:VEVENT
DTSTART;TZID=America/New_York:20221024T190000
DTEND;TZID=America/New_York:20221024T200000
DTSTAMP:20260422T212304
CREATED:20200221T171439Z
LAST-MODIFIED:20240524T180119Z
UID:10000251-1666638000-1666641600@ambcknox.org
SUMMARY:AMBC Meeting at Southside Garage
DESCRIPTION:Get the latest updates from AMBC at our monthly meeting at our new location – Southside Garage!!! \nOur friends from South Coast Pizza will have pizza by the slice available. Come early to enjoy some beverages\, doors open at 6:30 and we’ll get down to business at 7. \nHave something to add? Get it to info@ambcknox.org \nPlease see the image below for Public Parking\, Please be respectful of our neighbors and neighborhoods and park in public lots – when in doubt – RIDE YOUR BIKE\, or park at Suttree Landing Park. \n 
URL:https://ambcknox.org/event/ambc-meeting-2022-05-23/2022-10-24/
LOCATION:Southside Garage\, 1014 Sevier Avenue\, Knoxville\, Tennessee\, 37920
CATEGORIES:Meetings
ATTACH;FMTTYPE=image/jpeg:https://ambcknox.org/site/wp-content/uploads/2020/01/monthly-meeting-3.jpg
ORGANIZER;CN="Appalachian Mountain Bike Club":MAILTO:info@ambcknox.org
GEO:35.9588669;-83.9050206
X-APPLE-STRUCTURED-LOCATION;VALUE=URI;X-ADDRESS=Southside Garage 1014 Sevier Avenue Knoxville Tennessee 37920;X-APPLE-RADIUS=500;X-TITLE=1014 Sevier Avenue:geo:-83.9050206,35.9588669
END:VEVENT
END:VCALENDAR