BEGIN:VCALENDAR
VERSION:2.0
PRODID:-//Appalachian Mountain Bike Club - ECPv6.15.20//NONSGML v1.0//EN
CALSCALE:GREGORIAN
METHOD:PUBLISH
X-ORIGINAL-URL:https://ambcknox.org
X-WR-CALDESC:Events for Appalachian Mountain Bike Club
REFRESH-INTERVAL;VALUE=DURATION:PT1H
X-Robots-Tag:noindex
X-PUBLISHED-TTL:PT1H
BEGIN:VTIMEZONE
TZID:America/New_York
BEGIN:DAYLIGHT
TZOFFSETFROM:-0500
TZOFFSETTO:-0400
TZNAME:EDT
DTSTART:20210314T070000
END:DAYLIGHT
BEGIN:STANDARD
TZOFFSETFROM:-0400
TZOFFSETTO:-0500
TZNAME:EST
DTSTART:20211107T060000
END:STANDARD
BEGIN:DAYLIGHT
TZOFFSETFROM:-0500
TZOFFSETTO:-0400
TZNAME:EDT
DTSTART:20220313T070000
END:DAYLIGHT
BEGIN:STANDARD
TZOFFSETFROM:-0400
TZOFFSETTO:-0500
TZNAME:EST
DTSTART:20221106T060000
END:STANDARD
BEGIN:DAYLIGHT
TZOFFSETFROM:-0500
TZOFFSETTO:-0400
TZNAME:EDT
DTSTART:20230312T070000
END:DAYLIGHT
BEGIN:STANDARD
TZOFFSETFROM:-0400
TZOFFSETTO:-0500
TZNAME:EST
DTSTART:20231105T060000
END:STANDARD
END:VTIMEZONE
BEGIN:VEVENT
DTSTART;TZID=America/New_York:20221211T180000
DTEND;TZID=America/New_York:20221211T210000
DTSTAMP:20260422T184700
CREATED:20221109T140904Z
LAST-MODIFIED:20221109T140904Z
UID:10000198-1670781600-1670792400@ambcknox.org
SUMMARY:AMBC Holiday Soiree @ Suttrees
DESCRIPTION:Tis the season – Join us for an evening downtown\, we’ll take over Suttree’s High Gravity Tavern for good fun\, pop-a-shot\, skee ball\, pinball\, last-minute AMBC Merchandise shopping\, and pints with friends!
URL:https://ambcknox.org/event/ambc-holiday-soiree-suttrees/
LOCATION:Suttree’s High Gravity Tavern\, 409 S Gay Street\, Knoxville\, TN\, 37902\, United States
CATEGORIES:Meetings,Parties,Regional Events
ATTACH;FMTTYPE=image/jpeg:https://ambcknox.org/site/wp-content/uploads/2017/10/SX3A7957-scaled.jpg
ORGANIZER;CN="Appalachian Mountain Bike Club":MAILTO:info@ambcknox.org
GEO:35.9660212;-83.9187639
X-APPLE-STRUCTURED-LOCATION;VALUE=URI;X-ADDRESS=Suttree’s High Gravity Tavern 409 S Gay Street Knoxville TN 37902 United States;X-APPLE-RADIUS=500;X-TITLE=409 S Gay Street:geo:-83.9187639,35.9660212
END:VEVENT
BEGIN:VEVENT
DTSTART;TZID=America/New_York:20221226T190000
DTEND;TZID=America/New_York:20221226T200000
DTSTAMP:20260422T184700
CREATED:20200221T171439Z
LAST-MODIFIED:20230419T155902Z
UID:10000105-1672081200-1672084800@ambcknox.org
SUMMARY:AMBC Meeting at Southside Garage
DESCRIPTION:Get the latest updates from AMBC at our monthly meeting at our new location – Southside Garage!!! \nOur friends from South Coast Pizza will have pizza by the slice available. Come early to enjoy some beverages\, doors open at 6:30 and we’ll get down to business at 7. \nHave something to add? Get it to info@ambcknox.org \nPlease see the image below for Public Parking\, Please be respectful of our neighbors and neighborhoods and park in public lots – when in doubt – RIDE YOUR BIKE\, or park at Suttree Landing Park. \nCheers!!! \n 
URL:https://ambcknox.org/event/ambc-meeting-hybrid/2022-12-26/
LOCATION:Southside Garage\, 1014 Sevier Avenue\, Knoxville\, Tennessee\, 37920
CATEGORIES:Meetings
ATTACH;FMTTYPE=image/jpeg:https://ambcknox.org/site/wp-content/uploads/2020/01/monthly-meeting-3.jpg
ORGANIZER;CN="Appalachian Mountain Bike Club":MAILTO:info@ambcknox.org
GEO:35.9588669;-83.9050206
X-APPLE-STRUCTURED-LOCATION;VALUE=URI;X-ADDRESS=Southside Garage 1014 Sevier Avenue Knoxville Tennessee 37920;X-APPLE-RADIUS=500;X-TITLE=1014 Sevier Avenue:geo:-83.9050206,35.9588669
END:VEVENT
BEGIN:VEVENT
DTSTART;TZID=America/New_York:20221226T190000
DTEND;TZID=America/New_York:20221226T200000
DTSTAMP:20260422T184700
CREATED:20200221T171439Z
LAST-MODIFIED:20240524T180119Z
UID:10000253-1672081200-1672084800@ambcknox.org
SUMMARY:AMBC Meeting at Southside Garage
DESCRIPTION:Get the latest updates from AMBC at our monthly meeting at our new location – Southside Garage!!! \nOur friends from South Coast Pizza will have pizza by the slice available. Come early to enjoy some beverages\, doors open at 6:30 and we’ll get down to business at 7. \nHave something to add? Get it to info@ambcknox.org \nPlease see the image below for Public Parking\, Please be respectful of our neighbors and neighborhoods and park in public lots – when in doubt – RIDE YOUR BIKE\, or park at Suttree Landing Park. \n 
URL:https://ambcknox.org/event/ambc-meeting-2022-05-23/2022-12-26/
LOCATION:Southside Garage\, 1014 Sevier Avenue\, Knoxville\, Tennessee\, 37920
CATEGORIES:Meetings
ATTACH;FMTTYPE=image/jpeg:https://ambcknox.org/site/wp-content/uploads/2020/01/monthly-meeting-3.jpg
ORGANIZER;CN="Appalachian Mountain Bike Club":MAILTO:info@ambcknox.org
GEO:35.9588669;-83.9050206
X-APPLE-STRUCTURED-LOCATION;VALUE=URI;X-ADDRESS=Southside Garage 1014 Sevier Avenue Knoxville Tennessee 37920;X-APPLE-RADIUS=500;X-TITLE=1014 Sevier Avenue:geo:-83.9050206,35.9588669
END:VEVENT
END:VCALENDAR