BEGIN:VCALENDAR
VERSION:2.0
PRODID:-//Appalachian Mountain Bike Club - ECPv6.15.20//NONSGML v1.0//EN
CALSCALE:GREGORIAN
METHOD:PUBLISH
X-ORIGINAL-URL:https://ambcknox.org
X-WR-CALDESC:Events for Appalachian Mountain Bike Club
REFRESH-INTERVAL;VALUE=DURATION:PT1H
X-Robots-Tag:noindex
X-PUBLISHED-TTL:PT1H
BEGIN:VTIMEZONE
TZID:America/New_York
BEGIN:DAYLIGHT
TZOFFSETFROM:-0500
TZOFFSETTO:-0400
TZNAME:EDT
DTSTART:20160313T070000
END:DAYLIGHT
BEGIN:STANDARD
TZOFFSETFROM:-0400
TZOFFSETTO:-0500
TZNAME:EST
DTSTART:20161106T060000
END:STANDARD
BEGIN:DAYLIGHT
TZOFFSETFROM:-0500
TZOFFSETTO:-0400
TZNAME:EDT
DTSTART:20170312T070000
END:DAYLIGHT
BEGIN:STANDARD
TZOFFSETFROM:-0400
TZOFFSETTO:-0500
TZNAME:EST
DTSTART:20171105T060000
END:STANDARD
BEGIN:DAYLIGHT
TZOFFSETFROM:-0500
TZOFFSETTO:-0400
TZNAME:EDT
DTSTART:20180311T070000
END:DAYLIGHT
BEGIN:STANDARD
TZOFFSETFROM:-0400
TZOFFSETTO:-0500
TZNAME:EST
DTSTART:20181104T060000
END:STANDARD
BEGIN:DAYLIGHT
TZOFFSETFROM:-0500
TZOFFSETTO:-0400
TZNAME:EDT
DTSTART:20190310T070000
END:DAYLIGHT
BEGIN:STANDARD
TZOFFSETFROM:-0400
TZOFFSETTO:-0500
TZNAME:EST
DTSTART:20191103T060000
END:STANDARD
BEGIN:DAYLIGHT
TZOFFSETFROM:-0500
TZOFFSETTO:-0400
TZNAME:EDT
DTSTART:20200308T070000
END:DAYLIGHT
BEGIN:STANDARD
TZOFFSETFROM:-0400
TZOFFSETTO:-0500
TZNAME:EST
DTSTART:20201101T060000
END:STANDARD
BEGIN:DAYLIGHT
TZOFFSETFROM:-0500
TZOFFSETTO:-0400
TZNAME:EDT
DTSTART:20210314T070000
END:DAYLIGHT
BEGIN:STANDARD
TZOFFSETFROM:-0400
TZOFFSETTO:-0500
TZNAME:EST
DTSTART:20211107T060000
END:STANDARD
BEGIN:DAYLIGHT
TZOFFSETFROM:-0500
TZOFFSETTO:-0400
TZNAME:EDT
DTSTART:20220313T070000
END:DAYLIGHT
BEGIN:STANDARD
TZOFFSETFROM:-0400
TZOFFSETTO:-0500
TZNAME:EST
DTSTART:20221106T060000
END:STANDARD
END:VTIMEZONE
BEGIN:VEVENT
DTSTART;TZID=America/New_York:20210125T190000
DTEND;TZID=America/New_York:20210125T200000
DTSTAMP:20260420T024335
CREATED:20200221T171439Z
LAST-MODIFIED:20210424T151117Z
UID:10000082-1611601200-1611604800@ambcknox.org
SUMMARY:AMBC Meeting LIVE on FaceBook and YouTube
DESCRIPTION:Get the latest updates from AMBC at our monthly meeting on FaceBook LIVE and YouTube!!! \nGrab to-go and tune in for all the news at 7pm sharp! \nHave something to add? Get it to info@ambcknox.org \nCan’t make it? No worries\, the videos are archived on our Facebook and YouTube video page and meeting notes are emailed out too. \nCheers!!! \n 
URL:https://ambcknox.org/event/ambc-meeting/2021-01-25/
LOCATION:Tennessee
CATEGORIES:Meetings
ATTACH;FMTTYPE=image/jpeg:https://ambcknox.org/site/wp-content/uploads/2020/01/monthly-meeting-3.jpg
ORGANIZER;CN="Appalachian Mountain Bike Club":MAILTO:info@ambcknox.org
END:VEVENT
BEGIN:VEVENT
DTSTART;TZID=America/New_York:20201228T190000
DTEND;TZID=America/New_York:20201228T200000
DTSTAMP:20260420T024335
CREATED:20200221T171439Z
LAST-MODIFIED:20210424T151117Z
UID:10000081-1609182000-1609185600@ambcknox.org
SUMMARY:AMBC Meeting LIVE on FaceBook and YouTube
DESCRIPTION:Get the latest updates from AMBC at our monthly meeting on FaceBook LIVE and YouTube!!! \nGrab to-go and tune in for all the news at 7pm sharp! \nHave something to add? Get it to info@ambcknox.org \nCan’t make it? No worries\, the videos are archived on our Facebook and YouTube video page and meeting notes are emailed out too. \nCheers!!! \n 
URL:https://ambcknox.org/event/ambc-meeting/2020-12-28/
LOCATION:Tennessee
CATEGORIES:Meetings
ATTACH;FMTTYPE=image/jpeg:https://ambcknox.org/site/wp-content/uploads/2020/01/monthly-meeting-3.jpg
ORGANIZER;CN="Appalachian Mountain Bike Club":MAILTO:info@ambcknox.org
END:VEVENT
BEGIN:VEVENT
DTSTART;TZID=America/New_York:20201123T190000
DTEND;TZID=America/New_York:20201123T200000
DTSTAMP:20260420T024335
CREATED:20200221T171439Z
LAST-MODIFIED:20210424T151117Z
UID:10000080-1606158000-1606161600@ambcknox.org
SUMMARY:AMBC Meeting LIVE on FaceBook and YouTube
DESCRIPTION:Get the latest updates from AMBC at our monthly meeting on FaceBook LIVE and YouTube!!! \nGrab to-go and tune in for all the news at 7pm sharp! \nHave something to add? Get it to info@ambcknox.org \nCan’t make it? No worries\, the videos are archived on our Facebook and YouTube video page and meeting notes are emailed out too. \nCheers!!! \n 
URL:https://ambcknox.org/event/ambc-meeting/2020-11-23/
LOCATION:Tennessee
CATEGORIES:Meetings
ATTACH;FMTTYPE=image/jpeg:https://ambcknox.org/site/wp-content/uploads/2020/01/monthly-meeting-3.jpg
ORGANIZER;CN="Appalachian Mountain Bike Club":MAILTO:info@ambcknox.org
END:VEVENT
BEGIN:VEVENT
DTSTART;TZID=America/New_York:20201026T190000
DTEND;TZID=America/New_York:20201026T200000
DTSTAMP:20260420T024335
CREATED:20200221T171439Z
LAST-MODIFIED:20210424T151117Z
UID:10000079-1603738800-1603742400@ambcknox.org
SUMMARY:AMBC Meeting LIVE on FaceBook and YouTube
DESCRIPTION:Get the latest updates from AMBC at our monthly meeting on FaceBook LIVE and YouTube!!! \nGrab to-go and tune in for all the news at 7pm sharp! \nHave something to add? Get it to info@ambcknox.org \nCan’t make it? No worries\, the videos are archived on our Facebook and YouTube video page and meeting notes are emailed out too. \nCheers!!! \n 
URL:https://ambcknox.org/event/ambc-meeting/2020-10-26/
LOCATION:Tennessee
CATEGORIES:Meetings
ATTACH;FMTTYPE=image/jpeg:https://ambcknox.org/site/wp-content/uploads/2020/01/monthly-meeting-3.jpg
ORGANIZER;CN="Appalachian Mountain Bike Club":MAILTO:info@ambcknox.org
END:VEVENT
BEGIN:VEVENT
DTSTART;TZID=America/New_York:20200928T190000
DTEND;TZID=America/New_York:20200928T200000
DTSTAMP:20260420T024335
CREATED:20200221T171439Z
LAST-MODIFIED:20210424T151117Z
UID:10000078-1601319600-1601323200@ambcknox.org
SUMMARY:AMBC Meeting LIVE on FaceBook and YouTube
DESCRIPTION:Get the latest updates from AMBC at our monthly meeting on FaceBook LIVE and YouTube!!! \nGrab to-go and tune in for all the news at 7pm sharp! \nHave something to add? Get it to info@ambcknox.org \nCan’t make it? No worries\, the videos are archived on our Facebook and YouTube video page and meeting notes are emailed out too. \nCheers!!! \n 
URL:https://ambcknox.org/event/ambc-meeting/2020-09-28/
LOCATION:Tennessee
CATEGORIES:Meetings
ATTACH;FMTTYPE=image/jpeg:https://ambcknox.org/site/wp-content/uploads/2020/01/monthly-meeting-3.jpg
ORGANIZER;CN="Appalachian Mountain Bike Club":MAILTO:info@ambcknox.org
END:VEVENT
BEGIN:VEVENT
DTSTART;TZID=America/New_York:20200824T190000
DTEND;TZID=America/New_York:20200824T200000
DTSTAMP:20260420T024335
CREATED:20200221T171439Z
LAST-MODIFIED:20210424T151117Z
UID:10000077-1598295600-1598299200@ambcknox.org
SUMMARY:AMBC Meeting LIVE on FaceBook and YouTube
DESCRIPTION:Get the latest updates from AMBC at our monthly meeting on FaceBook LIVE and YouTube!!! \nGrab to-go and tune in for all the news at 7pm sharp! \nHave something to add? Get it to info@ambcknox.org \nCan’t make it? No worries\, the videos are archived on our Facebook and YouTube video page and meeting notes are emailed out too. \nCheers!!! \n 
URL:https://ambcknox.org/event/ambc-meeting/2020-08-24/
LOCATION:Tennessee
CATEGORIES:Meetings
ATTACH;FMTTYPE=image/jpeg:https://ambcknox.org/site/wp-content/uploads/2020/01/monthly-meeting-3.jpg
ORGANIZER;CN="Appalachian Mountain Bike Club":MAILTO:info@ambcknox.org
END:VEVENT
BEGIN:VEVENT
DTSTART;TZID=America/New_York:20200727T190000
DTEND;TZID=America/New_York:20200727T200000
DTSTAMP:20260420T024335
CREATED:20200221T171439Z
LAST-MODIFIED:20210424T151117Z
UID:10000076-1595876400-1595880000@ambcknox.org
SUMMARY:AMBC Meeting LIVE on FaceBook and YouTube
DESCRIPTION:Get the latest updates from AMBC at our monthly meeting on FaceBook LIVE and YouTube!!! \nGrab to-go and tune in for all the news at 7pm sharp! \nHave something to add? Get it to info@ambcknox.org \nCan’t make it? No worries\, the videos are archived on our Facebook and YouTube video page and meeting notes are emailed out too. \nCheers!!! \n 
URL:https://ambcknox.org/event/ambc-meeting/2020-07-27/
LOCATION:Tennessee
CATEGORIES:Meetings
ATTACH;FMTTYPE=image/jpeg:https://ambcknox.org/site/wp-content/uploads/2020/01/monthly-meeting-3.jpg
ORGANIZER;CN="Appalachian Mountain Bike Club":MAILTO:info@ambcknox.org
END:VEVENT
BEGIN:VEVENT
DTSTART;TZID=America/New_York:20200622T190000
DTEND;TZID=America/New_York:20200622T200000
DTSTAMP:20260420T024335
CREATED:20200221T171439Z
LAST-MODIFIED:20200622T192201Z
UID:10000090-1592852400-1592856000@ambcknox.org
SUMMARY:AMBC Meeting
DESCRIPTION:Get the latest updates from AMBC at our monthly meeting on Facebook LIVE! \nGrab some takeout and settle in\, we get down to business at 7. \nHave something to add? Get it to info@ambcknox.org \n  \n 
URL:https://ambcknox.org/event/ambc-meeting-2020-06-22/
LOCATION:Tennessee
CATEGORIES:Meetings
ATTACH;FMTTYPE=image/jpeg:https://ambcknox.org/site/wp-content/uploads/2020/01/monthly-meeting-3.jpg
ORGANIZER;CN="Appalachian Mountain Bike Club":MAILTO:info@ambcknox.org
END:VEVENT
BEGIN:VEVENT
DTSTART;TZID=America/New_York:20200525T190000
DTEND;TZID=America/New_York:20200525T200000
DTSTAMP:20260420T024335
CREATED:20200221T171439Z
LAST-MODIFIED:20210424T151117Z
UID:10000075-1590433200-1590436800@ambcknox.org
SUMMARY:AMBC Meeting LIVE on FaceBook and YouTube
DESCRIPTION:Get the latest updates from AMBC at our monthly meeting on FaceBook LIVE and YouTube!!! \nGrab to-go and tune in for all the news at 7pm sharp! \nHave something to add? Get it to info@ambcknox.org \nCan’t make it? No worries\, the videos are archived on our Facebook and YouTube video page and meeting notes are emailed out too. \nCheers!!! \n 
URL:https://ambcknox.org/event/ambc-meeting/2020-05-25/
LOCATION:Tennessee
CATEGORIES:Meetings
ATTACH;FMTTYPE=image/jpeg:https://ambcknox.org/site/wp-content/uploads/2020/01/monthly-meeting-3.jpg
ORGANIZER;CN="Appalachian Mountain Bike Club":MAILTO:info@ambcknox.org
END:VEVENT
BEGIN:VEVENT
DTSTART;TZID=America/New_York:20200427T190000
DTEND;TZID=America/New_York:20200427T200000
DTSTAMP:20260420T024335
CREATED:20200221T171439Z
LAST-MODIFIED:20200424T131457Z
UID:10000089-1588014000-1588017600@ambcknox.org
SUMMARY:AMBC Meeting Online
DESCRIPTION:Get the latest updates from AMBC at our April meeting in the comfort of your own home! \nOrder takeout and beverages or cook up a mess of grub at home and we’ll get down to business at 7pm. \nJoin the online meeting at our Facebook page \n  \n\nMany of our long term supporters are offering takeout and in some cases delivery!\nSouthcoast Pizza\nTrailhead Beer Market\nAlliance Brewing Co.\nSimpl.\nSoKno Taco\nSweet P’s\nCentral Flats and Taps\nHave something to add? Get it to info@ambcknox.org \n 
URL:https://ambcknox.org/event/ambc-meeting-2020-04-27/
LOCATION:Online meeting\, TN\, United States
CATEGORIES:Meetings
ATTACH;FMTTYPE=image/jpeg:https://ambcknox.org/site/wp-content/uploads/2020/01/monthly-meeting-3.jpg
ORGANIZER;CN="Appalachian Mountain Bike Club":MAILTO:info@ambcknox.org
END:VEVENT
BEGIN:VEVENT
DTSTART;TZID=America/New_York:20200323T190000
DTEND;TZID=America/New_York:20200323T200000
DTSTAMP:20260420T024335
CREATED:20200221T171439Z
LAST-MODIFIED:20200318T191610Z
UID:10000088-1584990000-1584993600@ambcknox.org
SUMMARY:AMBC Meeting CANCELED due to COVID-19
DESCRIPTION:AMBC will be postponing all upcoming group events for the foreseeable future. With the health and safety of the community in mind we encourage everyone to do their part and to play it safe. Wash those hands\, avoid close contact\, stay home if you’re sick\, and follow other CDC guidelines.   \nGet the latest updates from AMBC at our monthly meeting at South Coast Pizza! \nCome early to enjoy some great pizza and beverages before we get down to business at 7. \nHave something to add? Get it to info@ambcknox.org \nPlease see the image below for Public Parking\, Please be respectful of our neighbors and neighborhoods.
URL:https://ambcknox.org/event/ambc-meeting-2020-03-23/
LOCATION:South Coast Pizza\, 1103 Sevier Avenue\, Knoxville\, TN\, 37920\, United States
CATEGORIES:Meetings
ATTACH;FMTTYPE=image/jpeg:https://ambcknox.org/site/wp-content/uploads/2020/01/monthly-meeting-3.jpg
ORGANIZER;CN="Appalachian Mountain Bike Club":MAILTO:info@ambcknox.org
GEO:35.9595441;-83.9045966
X-APPLE-STRUCTURED-LOCATION;VALUE=URI;X-ADDRESS=South Coast Pizza 1103 Sevier Avenue Knoxville TN 37920 United States;X-APPLE-RADIUS=500;X-TITLE=1103 Sevier Avenue:geo:-83.9045966,35.9595441
END:VEVENT
BEGIN:VEVENT
DTSTART;TZID=America/New_York:20200224T190000
DTEND;TZID=America/New_York:20200224T200000
DTSTAMP:20260420T024335
CREATED:20200221T171439Z
LAST-MODIFIED:20210424T151117Z
UID:10000074-1582570800-1582574400@ambcknox.org
SUMMARY:AMBC Meeting LIVE on FaceBook and YouTube
DESCRIPTION:Get the latest updates from AMBC at our monthly meeting on FaceBook LIVE and YouTube!!! \nGrab to-go and tune in for all the news at 7pm sharp! \nHave something to add? Get it to info@ambcknox.org \nCan’t make it? No worries\, the videos are archived on our Facebook and YouTube video page and meeting notes are emailed out too. \nCheers!!! \n 
URL:https://ambcknox.org/event/ambc-meeting/2020-02-24/
LOCATION:Tennessee
CATEGORIES:Meetings
ATTACH;FMTTYPE=image/jpeg:https://ambcknox.org/site/wp-content/uploads/2020/01/monthly-meeting-3.jpg
ORGANIZER;CN="Appalachian Mountain Bike Club":MAILTO:info@ambcknox.org
END:VEVENT
BEGIN:VEVENT
DTSTART;TZID=America/New_York:20180326T180000
DTEND;TZID=America/New_York:20180326T190000
DTSTAMP:20260420T024335
CREATED:20150313T155909Z
LAST-MODIFIED:20180326T133226Z
UID:10000018-1522087200-1522090800@ambcknox.org
SUMMARY:AMBC Meeting - HARD KNOX PIZZA
DESCRIPTION:Get the latest updates from AMBC at our monthly meeting! \nThis month\, we’re moving the meeting to Hard Knox Pizzeria at 4437 Kingston Pike. They’re donating a portion of proceeds from each “Dirty South Pizza” to AMBC\, so come early and get your pie!
URL:https://ambcknox.org/event/ambc-meeting-2-2018-03-26/
LOCATION:Hard Knox Pizzeria\, 4437 Kingston Pike\, Knoxville\, TN\, 37919\, United States
CATEGORIES:Meetings
GEO:35.9430315;-83.9779709
X-APPLE-STRUCTURED-LOCATION;VALUE=URI;X-ADDRESS=Hard Knox Pizzeria 4437 Kingston Pike Knoxville TN 37919 United States;X-APPLE-RADIUS=500;X-TITLE=4437 Kingston Pike:geo:-83.9779709,35.9430315
END:VEVENT
BEGIN:VEVENT
DTSTART;TZID=America/New_York:20171127T180000
DTEND;TZID=America/New_York:20171127T190000
DTSTAMP:20260420T024335
CREATED:20150313T155909Z
LAST-MODIFIED:20171127T150845Z
UID:10000017-1511805600-1511809200@ambcknox.org
SUMMARY:AMBC Meeting - MOVED TO BARLEY’S
DESCRIPTION:We’re moving back to Barley’s in the Old City for the November meeting.
URL:https://ambcknox.org/event/ambc-meeting-2-2017-11-27/
LOCATION:Barley’s Taproom & Pizzeria\, 200 East Jackson Avenue\, Knoxville\, TN\, 37915\, United States
CATEGORIES:Meetings
GEO:35.9708504;-83.9173131
X-APPLE-STRUCTURED-LOCATION;VALUE=URI;X-ADDRESS=Barley’s Taproom & Pizzeria 200 East Jackson Avenue Knoxville TN 37915 United States;X-APPLE-RADIUS=500;X-TITLE=200 East Jackson Avenue:geo:-83.9173131,35.9708504
END:VEVENT
END:VCALENDAR