BEGIN:VCALENDAR
VERSION:2.0
PRODID:-//Appalachian Mountain Bike Club - ECPv6.15.20//NONSGML v1.0//EN
CALSCALE:GREGORIAN
METHOD:PUBLISH
X-WR-CALNAME:Appalachian Mountain Bike Club
X-ORIGINAL-URL:https://ambcknox.org
X-WR-CALDESC:Events for Appalachian Mountain Bike Club
REFRESH-INTERVAL;VALUE=DURATION:PT1H
X-Robots-Tag:noindex
X-PUBLISHED-TTL:PT1H
BEGIN:VTIMEZONE
TZID:America/New_York
BEGIN:DAYLIGHT
TZOFFSETFROM:-0500
TZOFFSETTO:-0400
TZNAME:EDT
DTSTART:20210314T070000
END:DAYLIGHT
BEGIN:STANDARD
TZOFFSETFROM:-0400
TZOFFSETTO:-0500
TZNAME:EST
DTSTART:20211107T060000
END:STANDARD
BEGIN:DAYLIGHT
TZOFFSETFROM:-0500
TZOFFSETTO:-0400
TZNAME:EDT
DTSTART:20220313T070000
END:DAYLIGHT
BEGIN:STANDARD
TZOFFSETFROM:-0400
TZOFFSETTO:-0500
TZNAME:EST
DTSTART:20221106T060000
END:STANDARD
BEGIN:DAYLIGHT
TZOFFSETFROM:-0500
TZOFFSETTO:-0400
TZNAME:EDT
DTSTART:20230312T070000
END:DAYLIGHT
BEGIN:STANDARD
TZOFFSETFROM:-0400
TZOFFSETTO:-0500
TZNAME:EST
DTSTART:20231105T060000
END:STANDARD
END:VTIMEZONE
BEGIN:VEVENT
DTSTART;TZID=America/New_York:20220205T090000
DTEND;TZID=America/New_York:20220205T120000
DTSTAMP:20260419T121118
CREATED:20220125T162152Z
LAST-MODIFIED:20220125T162152Z
UID:10000169-1644051600-1644062400@ambcknox.org
SUMMARY:Work Party - Baker Creek
DESCRIPTION:No dig no ride??? Nah – Just Join us!!! We’ll be working at Baker Creek. You know the drill – We’ll gather at Baker Creek at 9am and Lunch will be served at noon – We’ll have drinks and beers from Hi-Wire. \nAs usual\, AMBC will provide the tools\, just come prepared to work with sturdy shoes\, gloves\, safety glasses\, and water. \nCAN YOU DIG IT?
URL:https://ambcknox.org/event/work-party-baker-creek/
LOCATION:Baker Creek Preserve\, 1516 Taylor Road\, Knoxville\, TN\, 37920\, United States
CATEGORIES:Meetings,Parties,Volunteer Opportunities,Work Parties
ATTACH;FMTTYPE=image/jpeg:https://ambcknox.org/site/wp-content/uploads/2020/01/work-party-4.jpg
ORGANIZER;CN="Appalachian Mountain Bike Club":MAILTO:info@ambcknox.org
GEO:35.942899;-83.890728
X-APPLE-STRUCTURED-LOCATION;VALUE=URI;X-ADDRESS=Baker Creek Preserve 1516 Taylor Road Knoxville TN 37920 United States;X-APPLE-RADIUS=500;X-TITLE=1516 Taylor Road:geo:-83.890728,35.942899
END:VEVENT
BEGIN:VEVENT
DTSTART;TZID=America/New_York:20220210T180000
DTEND;TZID=America/New_York:20220210T210000
DTSTAMP:20260419T121118
CREATED:20211221T174748Z
LAST-MODIFIED:20220125T144953Z
UID:10000167-1644516000-1644526800@ambcknox.org
SUMMARY:AMBC Joy Ride Volunteer Round-Up
DESCRIPTION:NEW DATE!!!\nAs the Joy Ride embarks on another rad year of group rides\, advocating for more women on bikes\, and strengthening our ties with the Appalachian Mountain Bike Club\, we are calling on all ride volunteers to come and join our “in-service” on how to contribute to a successful group ride event. Learn from each other on what works\, what to look out for\, and how to facilitate a fun\, safe\, and adventurous group ride. We’ll have some breakout seshes on specific topics\, unveil the Joy ride 2022 schedule\, and share some brewskis of course!\n\nAnyone who wishes to volunteer for Joy Rides 2022 is welcome to join. Please help us spread the word and invite others!
URL:https://ambcknox.org/event/ambc-joy-ride-volunteer-round-up/
LOCATION:Alliance Brewing Company\, 1130 Sevier Ave\, Knoxville\, TN\, 37920\, United States
CATEGORIES:Group Rides,Meetings,Parties,Regional Events,Volunteer Opportunities,Work Parties
ATTACH;FMTTYPE=image/jpeg:https://ambcknox.org/site/wp-content/uploads/2021/12/269740044_113471094523142_3509696605903887651_n.jpg
ORGANIZER;CN="Appalachian Mountain Bike Club":MAILTO:info@ambcknox.org
GEO:35.9594436;-83.9035287
X-APPLE-STRUCTURED-LOCATION;VALUE=URI;X-ADDRESS=Alliance Brewing Company 1130 Sevier Ave Knoxville TN 37920 United States;X-APPLE-RADIUS=500;X-TITLE=1130 Sevier Ave:geo:-83.9035287,35.9594436
END:VEVENT
BEGIN:VEVENT
DTSTART;TZID=America/New_York:20220219T090000
DTEND;TZID=America/New_York:20220219T120000
DTSTAMP:20260419T121118
CREATED:20220125T161309Z
LAST-MODIFIED:20220211T174153Z
UID:10000165-1645261200-1645272000@ambcknox.org
SUMMARY:MEGA Work Party – Hastie
DESCRIPTION:Mark your calendars – you don’t want to miss this party! We’ll be working side by side with the IdeRide build crew at Hastie Natural Area! Major support for the Hastie trails comes from Harper Auto Square. We’ll meet at 9am at the Anderson School trailhead and carpool over to our project area. Lunch will be served at noon courtesy of our friends at Tennessee Valley Bicycles  and drinks from Oskar Blues!\n \nAs usual\, AMBC will provide the tools\, just come prepared to work with sturdy shoes\, gloves\, safety glasses\, and water. \nCAN YOU DIG IT?\n \n 
URL:https://ambcknox.org/event/mega-work-party-hastie/
LOCATION:Anderson School\, 4808 Prospect Rd\, Knoxville\, TN\, 37920\, United States
CATEGORIES:Meetings,Parties,Regional Events,Volunteer Opportunities,Work Parties
ATTACH;FMTTYPE=image/jpeg:https://ambcknox.org/site/wp-content/uploads/2022/01/mega-work-party-event.jpg
ORGANIZER;CN="Appalachian Mountain Bike Club":MAILTO:info@ambcknox.org
GEO:35.929025;-83.865511
X-APPLE-STRUCTURED-LOCATION;VALUE=URI;X-ADDRESS=Anderson School 4808 Prospect Rd Knoxville TN 37920 United States;X-APPLE-RADIUS=500;X-TITLE=4808 Prospect Rd:geo:-83.865511,35.929025
END:VEVENT
BEGIN:VEVENT
DTSTART;TZID=America/New_York:20220226T090000
DTEND;TZID=America/New_York:20220226T120000
DTSTAMP:20260419T121118
CREATED:20220125T162719Z
LAST-MODIFIED:20220222T150648Z
UID:10000168-1645866000-1645876800@ambcknox.org
SUMMARY:Work Party - Sharps Ridge
DESCRIPTION:With help from Keep Knoxville Beautiful we’ll be cleaning up at Sharps Ridge!!! Lunch\, sponsored by Knoxville Outdoor Tours will be served at noon – We’ll have drinks and beers from Hi-Wire. We’ll meet at the end of the road near the entrance to Knight Fall. \nAs usual\, AMBC will provide the tools\, just come prepared to work with sturdy shoes\, gloves\, safety glasses\, and water. \nCAN YOU DIG IT?
URL:https://ambcknox.org/event/work-party-sharps-ridge/
LOCATION:Sharps Ridge Park\, Sharps Ridge Memorial Park Drive\, Knoxville\, 37917
CATEGORIES:Parties,Volunteer Opportunities,Work Parties
ATTACH;FMTTYPE=image/jpeg:https://ambcknox.org/site/wp-content/uploads/2020/01/work-party-2.jpg
ORGANIZER;CN="Appalachian Mountain Bike Club":MAILTO:info@ambcknox.org
GEO:36.0039273;-83.9420337
X-APPLE-STRUCTURED-LOCATION;VALUE=URI;X-ADDRESS=Sharps Ridge Park Sharps Ridge Memorial Park Drive Knoxville 37917;X-APPLE-RADIUS=500;X-TITLE=Sharps Ridge Memorial Park Drive:geo:-83.9420337,36.0039273
END:VEVENT
END:VCALENDAR