BEGIN:VCALENDAR
VERSION:2.0
PRODID:-//Appalachian Mountain Bike Club - ECPv6.15.20//NONSGML v1.0//EN
CALSCALE:GREGORIAN
METHOD:PUBLISH
X-ORIGINAL-URL:https://ambcknox.org
X-WR-CALDESC:Events for Appalachian Mountain Bike Club
REFRESH-INTERVAL;VALUE=DURATION:PT1H
X-Robots-Tag:noindex
X-PUBLISHED-TTL:PT1H
BEGIN:VTIMEZONE
TZID:America/New_York
BEGIN:DAYLIGHT
TZOFFSETFROM:-0500
TZOFFSETTO:-0400
TZNAME:EDT
DTSTART:20250309T070000
END:DAYLIGHT
BEGIN:STANDARD
TZOFFSETFROM:-0400
TZOFFSETTO:-0500
TZNAME:EST
DTSTART:20251102T060000
END:STANDARD
BEGIN:DAYLIGHT
TZOFFSETFROM:-0500
TZOFFSETTO:-0400
TZNAME:EDT
DTSTART:20260308T070000
END:DAYLIGHT
BEGIN:STANDARD
TZOFFSETFROM:-0400
TZOFFSETTO:-0500
TZNAME:EST
DTSTART:20261101T060000
END:STANDARD
BEGIN:DAYLIGHT
TZOFFSETFROM:-0500
TZOFFSETTO:-0400
TZNAME:EDT
DTSTART:20270314T070000
END:DAYLIGHT
BEGIN:STANDARD
TZOFFSETFROM:-0400
TZOFFSETTO:-0500
TZNAME:EST
DTSTART:20271107T060000
END:STANDARD
END:VTIMEZONE
BEGIN:VEVENT
DTSTART;VALUE=DATE:20260718
DTEND;VALUE=DATE:20260719
DTSTAMP:20260422T185309
CREATED:20260420T163520Z
LAST-MODIFIED:20260420T163520Z
UID:10000648-1784332800-1784419199@ambcknox.org
SUMMARY:TVB's Summer Steamer
DESCRIPTION:Tennessee Valley Bikes is hosting their Summer Steamer again on July 18\, 2026. Get ready to ride every mountain bike trail in Knoxville on the hottest day of the year… more details coming soon! \nKnoxville is a great place to mountain bike and it’s also beautiful in mid-summer. The density of the forest makes for a jungle-like experience. Test your skills with your friends on this challenging course. \nThe purpose of this event is to get together and go for a big mountain bike ride. It’s going to be hot\, it’s going to be hard\, and it’s going to be fun. It’s not a race. There is no timing. There is no pressure to adhere to the course. Go swimming. Get ice cream. Take a nap. All good ideas. Just make sure you stop by the finish when you’re done so we know you’re doing good.  Also\, you’ll want your food!
URL:https://ambcknox.org/event/tvb-summer-steamer/
LOCATION:TN
CATEGORIES:Group Rides,Parties,Regional Events
ATTACH;FMTTYPE=image/jpeg:https://ambcknox.org/site/wp-content/uploads/2026/04/nosmokedoggie.jpg
ORGANIZER;CN="Tennessee Valley Bicycles":MAILTO:info@tnvalleybikes.com
END:VEVENT
BEGIN:VEVENT
DTSTART;VALUE=DATE:20261106
DTEND;VALUE=DATE:20261109
DTSTAMP:20260422T185309
CREATED:20260107T171121Z
LAST-MODIFIED:20260107T171121Z
UID:10000515-1793923200-1794182399@ambcknox.org
SUMMARY:17TH ANNUAL AMBC FALL FEST
DESCRIPTION:Fall Fest is AMBC’s annual homecoming — a celebration of trails\, community\, and the people who make it all happen. Each year\, folks from across the country (and even around the world!) come together in Knoxville’s Urban Wilderness for group rides\, live music\, local food\, beer\, a massive raffle\, and one of the best silent auctions! \nIt’s more than just a party\, it’s our biggest fundraiser of the year. All proceeds support AMBC’s mission to build\, maintain\, and advocate for trails while expanding access to the outdoors through key programs like our new Trail Blazers\, Joy Ride\, Monthly Work Parties\, Volunteer Sawyers\, and our Trail Crew. \nWe offer free camping onsite\, and the weekend is a chance to reconnect with old friends\, welcome new faces\, and celebrate the trails that connect us all. \nWhether you’re showing up to ride\, volunteer\, dance\, or just hang out — Fall Fest is for you!!!
URL:https://ambcknox.org/event/17th-annual-ambc-fall-fest/
LOCATION:Baker Creek Preserve\, 1516 Taylor Road\, Knoxville\, TN\, 37920\, United States
CATEGORIES:Fundraisers,Group Rides,Parties,Regional Events,Volunteer Opportunities
ORGANIZER;CN="Appalachian Mountain Bike Club":MAILTO:info@ambcknox.org
GEO:35.942899;-83.890728
X-APPLE-STRUCTURED-LOCATION;VALUE=URI;X-ADDRESS=Baker Creek Preserve 1516 Taylor Road Knoxville TN 37920 United States;X-APPLE-RADIUS=500;X-TITLE=1516 Taylor Road:geo:-83.890728,35.942899
END:VEVENT
BEGIN:VEVENT
DTSTART;TZID=America/New_York:20261212T153000
DTEND;TZID=America/New_York:20261212T193000
DTSTAMP:20260422T185309
CREATED:20260202T172743Z
LAST-MODIFIED:20260202T172743Z
UID:10000546-1797089400-1797103800@ambcknox.org
SUMMARY:Tour De Lights
DESCRIPTION:Tour de Lights is a free\, family-friendly bike ride and holiday market presented by Visit Knoxville and Bike Walk Knoxville. We hope to see everyone on December 12th from 3:30pm-7:30pm for Tour de Lights 2026!
URL:https://ambcknox.org/event/tour-de-lights-2026/
LOCATION:TN
CATEGORIES:Group Rides,Parties,Regional Events,Volunteer Opportunities
ATTACH;FMTTYPE=image/jpeg:https://ambcknox.org/site/wp-content/uploads/2025/11/4.jpg
END:VEVENT
END:VCALENDAR