BEGIN:VCALENDAR
VERSION:2.0
PRODID:-//Appalachian Mountain Bike Club - ECPv6.15.20//NONSGML v1.0//EN
CALSCALE:GREGORIAN
METHOD:PUBLISH
X-ORIGINAL-URL:https://ambcknox.org
X-WR-CALDESC:Events for Appalachian Mountain Bike Club
REFRESH-INTERVAL;VALUE=DURATION:PT1H
X-Robots-Tag:noindex
X-PUBLISHED-TTL:PT1H
BEGIN:VTIMEZONE
TZID:America/New_York
BEGIN:DAYLIGHT
TZOFFSETFROM:-0500
TZOFFSETTO:-0400
TZNAME:EDT
DTSTART:20250309T070000
END:DAYLIGHT
BEGIN:STANDARD
TZOFFSETFROM:-0400
TZOFFSETTO:-0500
TZNAME:EST
DTSTART:20251102T060000
END:STANDARD
BEGIN:DAYLIGHT
TZOFFSETFROM:-0500
TZOFFSETTO:-0400
TZNAME:EDT
DTSTART:20260308T070000
END:DAYLIGHT
BEGIN:STANDARD
TZOFFSETFROM:-0400
TZOFFSETTO:-0500
TZNAME:EST
DTSTART:20261101T060000
END:STANDARD
BEGIN:DAYLIGHT
TZOFFSETFROM:-0500
TZOFFSETTO:-0400
TZNAME:EDT
DTSTART:20270314T070000
END:DAYLIGHT
BEGIN:STANDARD
TZOFFSETFROM:-0400
TZOFFSETTO:-0500
TZNAME:EST
DTSTART:20271107T060000
END:STANDARD
END:VTIMEZONE
BEGIN:VEVENT
DTSTART;TZID=America/New_York:20260425T083000
DTEND;TZID=America/New_York:20260425T083000
DTSTAMP:20260422T185931
CREATED:20260407T170005Z
LAST-MODIFIED:20260407T170105Z
UID:10000640-1777105800-1777105800@ambcknox.org
SUMMARY:CVTA's Poker Run
DESCRIPTION:Join Clinch Valley Trail Alliance (CVTA) for a fun mountain bike event for most skill levels with 17 mile and 25 mile options — the Poker Run! The route starts and ends at Clinch River Brewing (2045 Norris Freeway) and includes dirt\, gravel\, and asphalt trails in Norris Dam State Park and Norris Watershed. \nFrom April 3rd-23rd\, the registration fee is $40. Optional box lunch for $20. Learn more and register here! \n25 Mile Option \n\nCheck in at 8:30 am\nStart at 9 am\n\n17 Mile Option \n\nCheck in at 9:30 am\nStart at 10 am\n\n*Severe weather date is May 10th. 
URL:https://ambcknox.org/event/cvtas-poker-run/
LOCATION:Clinch River Brewing\, 2045 Norris Fwy\, Norris\, TN\, 37828\, United States
CATEGORIES:Races,Regional Events
ATTACH;FMTTYPE=image/jpeg:https://ambcknox.org/site/wp-content/uploads/2026/04/IMG_8885.jpg
GEO:36.2156714;-84.0762412
X-APPLE-STRUCTURED-LOCATION;VALUE=URI;X-ADDRESS=Clinch River Brewing 2045 Norris Fwy Norris TN 37828 United States;X-APPLE-RADIUS=500;X-TITLE=2045 Norris Fwy:geo:-84.0762412,36.2156714
END:VEVENT
BEGIN:VEVENT
DTSTART;TZID=America/New_York:20260429T180000
DTEND;TZID=America/New_York:20260429T193000
DTSTAMP:20260422T185931
CREATED:20260113T162644Z
LAST-MODIFIED:20260127T211849Z
UID:10000521-1777485600-1777491000@ambcknox.org
SUMMARY:Knox Bike Racing - Wednesday Series
DESCRIPTION:Knox Bike Racing‘s Wednesday Night MTB Race Series features 10 cross-country mountain bike races held across multiple trail systems in the Knoxville\, TN area. Race categories start a few minutes apart\, and scoring is handled through Webscorer\, providing live results and individual lap times. This series is not USAC-sanctioned\, so no racing license is required. \nFind race details\, cost\, and other info here. Keep an eye on their website for schedule changes and rain dates. Be sure to sign up in advance for a discounted race fee. \nRACE TIMES: All categories must be staged at the start line by 6:10 PM. Expert racers will start at 6:15 PM\, with remaining categories released at intervals of a few minutes to spread out the field. \n2026 Event Schedule: \n\n4/1: Baker Creek Preserve 1 CW\n4/8: Fort Dickerson\n4/15: Sharp’s Ridge Firebreak\n4/22: Mead’s Quarry – Hickory Loop\n4/29: IC King – North Side\n5/6: Baker Creek Preserve 2 CCW\n5/13: Concord Park – Ball Fields\n5/20: Mead’s Quarry– Ross Marble Loop\n6/3: Sharp’s Ridge Independence\n6/10: Baker Creek Preserve 3 CW\n\nThe # of laps required for each category is listed below: \n\nJuniors 11 & Under – 1 lap\nJuniors 12-14 – 1 lap (Baker Creek will be 2 laps)\nJuniors 15-18 and Beginner – 2 laps (Baker Creek will be 3 laps)\nE-Bike\, Single Speed\, Sport Men and Women – 3 laps (Baker Creek will be 4 laps)\nExpert – 4 laps (Baker Creek will be 5 laps)
URL:https://ambcknox.org/event/knox-bike-racing-wednesday-series-2026/2026-04-29/
LOCATION:TN
CATEGORIES:Races,Regional Events
ORGANIZER;CN="Knox Bike Racing":MAILTO:KnoxBikeRacing@gmail.com
END:VEVENT
BEGIN:VEVENT
DTSTART;TZID=America/New_York:20260506T180000
DTEND;TZID=America/New_York:20260506T193000
DTSTAMP:20260422T185931
CREATED:20260113T162644Z
LAST-MODIFIED:20260127T211849Z
UID:10000522-1778090400-1778095800@ambcknox.org
SUMMARY:Knox Bike Racing - Wednesday Series
DESCRIPTION:Knox Bike Racing‘s Wednesday Night MTB Race Series features 10 cross-country mountain bike races held across multiple trail systems in the Knoxville\, TN area. Race categories start a few minutes apart\, and scoring is handled through Webscorer\, providing live results and individual lap times. This series is not USAC-sanctioned\, so no racing license is required. \nFind race details\, cost\, and other info here. Keep an eye on their website for schedule changes and rain dates. Be sure to sign up in advance for a discounted race fee. \nRACE TIMES: All categories must be staged at the start line by 6:10 PM. Expert racers will start at 6:15 PM\, with remaining categories released at intervals of a few minutes to spread out the field. \n2026 Event Schedule: \n\n4/1: Baker Creek Preserve 1 CW\n4/8: Fort Dickerson\n4/15: Sharp’s Ridge Firebreak\n4/22: Mead’s Quarry – Hickory Loop\n4/29: IC King – North Side\n5/6: Baker Creek Preserve 2 CCW\n5/13: Concord Park – Ball Fields\n5/20: Mead’s Quarry– Ross Marble Loop\n6/3: Sharp’s Ridge Independence\n6/10: Baker Creek Preserve 3 CW\n\nThe # of laps required for each category is listed below: \n\nJuniors 11 & Under – 1 lap\nJuniors 12-14 – 1 lap (Baker Creek will be 2 laps)\nJuniors 15-18 and Beginner – 2 laps (Baker Creek will be 3 laps)\nE-Bike\, Single Speed\, Sport Men and Women – 3 laps (Baker Creek will be 4 laps)\nExpert – 4 laps (Baker Creek will be 5 laps)
URL:https://ambcknox.org/event/knox-bike-racing-wednesday-series-2026/2026-05-06/
LOCATION:TN
CATEGORIES:Races,Regional Events
ORGANIZER;CN="Knox Bike Racing":MAILTO:KnoxBikeRacing@gmail.com
END:VEVENT
BEGIN:VEVENT
DTSTART;TZID=America/New_York:20260513T180000
DTEND;TZID=America/New_York:20260513T193000
DTSTAMP:20260422T185931
CREATED:20260113T162644Z
LAST-MODIFIED:20260127T211849Z
UID:10000523-1778695200-1778700600@ambcknox.org
SUMMARY:Knox Bike Racing - Wednesday Series
DESCRIPTION:Knox Bike Racing‘s Wednesday Night MTB Race Series features 10 cross-country mountain bike races held across multiple trail systems in the Knoxville\, TN area. Race categories start a few minutes apart\, and scoring is handled through Webscorer\, providing live results and individual lap times. This series is not USAC-sanctioned\, so no racing license is required. \nFind race details\, cost\, and other info here. Keep an eye on their website for schedule changes and rain dates. Be sure to sign up in advance for a discounted race fee. \nRACE TIMES: All categories must be staged at the start line by 6:10 PM. Expert racers will start at 6:15 PM\, with remaining categories released at intervals of a few minutes to spread out the field. \n2026 Event Schedule: \n\n4/1: Baker Creek Preserve 1 CW\n4/8: Fort Dickerson\n4/15: Sharp’s Ridge Firebreak\n4/22: Mead’s Quarry – Hickory Loop\n4/29: IC King – North Side\n5/6: Baker Creek Preserve 2 CCW\n5/13: Concord Park – Ball Fields\n5/20: Mead’s Quarry– Ross Marble Loop\n6/3: Sharp’s Ridge Independence\n6/10: Baker Creek Preserve 3 CW\n\nThe # of laps required for each category is listed below: \n\nJuniors 11 & Under – 1 lap\nJuniors 12-14 – 1 lap (Baker Creek will be 2 laps)\nJuniors 15-18 and Beginner – 2 laps (Baker Creek will be 3 laps)\nE-Bike\, Single Speed\, Sport Men and Women – 3 laps (Baker Creek will be 4 laps)\nExpert – 4 laps (Baker Creek will be 5 laps)
URL:https://ambcknox.org/event/knox-bike-racing-wednesday-series-2026/2026-05-13/
LOCATION:TN
CATEGORIES:Races,Regional Events
ORGANIZER;CN="Knox Bike Racing":MAILTO:KnoxBikeRacing@gmail.com
END:VEVENT
BEGIN:VEVENT
DTSTART;TZID=America/New_York:20260520T180000
DTEND;TZID=America/New_York:20260520T193000
DTSTAMP:20260422T185931
CREATED:20260113T162644Z
LAST-MODIFIED:20260127T211849Z
UID:10000524-1779300000-1779305400@ambcknox.org
SUMMARY:Knox Bike Racing - Wednesday Series
DESCRIPTION:Knox Bike Racing‘s Wednesday Night MTB Race Series features 10 cross-country mountain bike races held across multiple trail systems in the Knoxville\, TN area. Race categories start a few minutes apart\, and scoring is handled through Webscorer\, providing live results and individual lap times. This series is not USAC-sanctioned\, so no racing license is required. \nFind race details\, cost\, and other info here. Keep an eye on their website for schedule changes and rain dates. Be sure to sign up in advance for a discounted race fee. \nRACE TIMES: All categories must be staged at the start line by 6:10 PM. Expert racers will start at 6:15 PM\, with remaining categories released at intervals of a few minutes to spread out the field. \n2026 Event Schedule: \n\n4/1: Baker Creek Preserve 1 CW\n4/8: Fort Dickerson\n4/15: Sharp’s Ridge Firebreak\n4/22: Mead’s Quarry – Hickory Loop\n4/29: IC King – North Side\n5/6: Baker Creek Preserve 2 CCW\n5/13: Concord Park – Ball Fields\n5/20: Mead’s Quarry– Ross Marble Loop\n6/3: Sharp’s Ridge Independence\n6/10: Baker Creek Preserve 3 CW\n\nThe # of laps required for each category is listed below: \n\nJuniors 11 & Under – 1 lap\nJuniors 12-14 – 1 lap (Baker Creek will be 2 laps)\nJuniors 15-18 and Beginner – 2 laps (Baker Creek will be 3 laps)\nE-Bike\, Single Speed\, Sport Men and Women – 3 laps (Baker Creek will be 4 laps)\nExpert – 4 laps (Baker Creek will be 5 laps)
URL:https://ambcknox.org/event/knox-bike-racing-wednesday-series-2026/2026-05-20/
LOCATION:TN
CATEGORIES:Races,Regional Events
ORGANIZER;CN="Knox Bike Racing":MAILTO:KnoxBikeRacing@gmail.com
END:VEVENT
BEGIN:VEVENT
DTSTART;TZID=America/New_York:20260603T180000
DTEND;TZID=America/New_York:20260603T193000
DTSTAMP:20260422T185931
CREATED:20260113T162644Z
LAST-MODIFIED:20260127T211849Z
UID:10000526-1780509600-1780515000@ambcknox.org
SUMMARY:Knox Bike Racing - Wednesday Series
DESCRIPTION:Knox Bike Racing‘s Wednesday Night MTB Race Series features 10 cross-country mountain bike races held across multiple trail systems in the Knoxville\, TN area. Race categories start a few minutes apart\, and scoring is handled through Webscorer\, providing live results and individual lap times. This series is not USAC-sanctioned\, so no racing license is required. \nFind race details\, cost\, and other info here. Keep an eye on their website for schedule changes and rain dates. Be sure to sign up in advance for a discounted race fee. \nRACE TIMES: All categories must be staged at the start line by 6:10 PM. Expert racers will start at 6:15 PM\, with remaining categories released at intervals of a few minutes to spread out the field. \n2026 Event Schedule: \n\n4/1: Baker Creek Preserve 1 CW\n4/8: Fort Dickerson\n4/15: Sharp’s Ridge Firebreak\n4/22: Mead’s Quarry – Hickory Loop\n4/29: IC King – North Side\n5/6: Baker Creek Preserve 2 CCW\n5/13: Concord Park – Ball Fields\n5/20: Mead’s Quarry– Ross Marble Loop\n6/3: Sharp’s Ridge Independence\n6/10: Baker Creek Preserve 3 CW\n\nThe # of laps required for each category is listed below: \n\nJuniors 11 & Under – 1 lap\nJuniors 12-14 – 1 lap (Baker Creek will be 2 laps)\nJuniors 15-18 and Beginner – 2 laps (Baker Creek will be 3 laps)\nE-Bike\, Single Speed\, Sport Men and Women – 3 laps (Baker Creek will be 4 laps)\nExpert – 4 laps (Baker Creek will be 5 laps)
URL:https://ambcknox.org/event/knox-bike-racing-wednesday-series-2026/2026-06-03/
LOCATION:TN
CATEGORIES:Races,Regional Events
ORGANIZER;CN="Knox Bike Racing":MAILTO:KnoxBikeRacing@gmail.com
END:VEVENT
BEGIN:VEVENT
DTSTART;TZID=America/New_York:20260610T180000
DTEND;TZID=America/New_York:20260610T193000
DTSTAMP:20260422T185931
CREATED:20260113T162644Z
LAST-MODIFIED:20260127T211849Z
UID:10000527-1781114400-1781119800@ambcknox.org
SUMMARY:Knox Bike Racing - Wednesday Series
DESCRIPTION:Knox Bike Racing‘s Wednesday Night MTB Race Series features 10 cross-country mountain bike races held across multiple trail systems in the Knoxville\, TN area. Race categories start a few minutes apart\, and scoring is handled through Webscorer\, providing live results and individual lap times. This series is not USAC-sanctioned\, so no racing license is required. \nFind race details\, cost\, and other info here. Keep an eye on their website for schedule changes and rain dates. Be sure to sign up in advance for a discounted race fee. \nRACE TIMES: All categories must be staged at the start line by 6:10 PM. Expert racers will start at 6:15 PM\, with remaining categories released at intervals of a few minutes to spread out the field. \n2026 Event Schedule: \n\n4/1: Baker Creek Preserve 1 CW\n4/8: Fort Dickerson\n4/15: Sharp’s Ridge Firebreak\n4/22: Mead’s Quarry – Hickory Loop\n4/29: IC King – North Side\n5/6: Baker Creek Preserve 2 CCW\n5/13: Concord Park – Ball Fields\n5/20: Mead’s Quarry– Ross Marble Loop\n6/3: Sharp’s Ridge Independence\n6/10: Baker Creek Preserve 3 CW\n\nThe # of laps required for each category is listed below: \n\nJuniors 11 & Under – 1 lap\nJuniors 12-14 – 1 lap (Baker Creek will be 2 laps)\nJuniors 15-18 and Beginner – 2 laps (Baker Creek will be 3 laps)\nE-Bike\, Single Speed\, Sport Men and Women – 3 laps (Baker Creek will be 4 laps)\nExpert – 4 laps (Baker Creek will be 5 laps)
URL:https://ambcknox.org/event/knox-bike-racing-wednesday-series-2026/2026-06-10/
LOCATION:TN
CATEGORIES:Races,Regional Events
ORGANIZER;CN="Knox Bike Racing":MAILTO:KnoxBikeRacing@gmail.com
END:VEVENT
END:VCALENDAR