BEGIN:VCALENDAR
VERSION:2.0
PRODID:-//Appalachian Mountain Bike Club - ECPv6.15.20//NONSGML v1.0//EN
CALSCALE:GREGORIAN
METHOD:PUBLISH
X-WR-CALNAME:Appalachian Mountain Bike Club
X-ORIGINAL-URL:https://ambcknox.org
X-WR-CALDESC:Events for Appalachian Mountain Bike Club
REFRESH-INTERVAL;VALUE=DURATION:PT1H
X-Robots-Tag:noindex
X-PUBLISHED-TTL:PT1H
BEGIN:VTIMEZONE
TZID:America/New_York
BEGIN:DAYLIGHT
TZOFFSETFROM:-0500
TZOFFSETTO:-0400
TZNAME:EDT
DTSTART:20200308T070000
END:DAYLIGHT
BEGIN:STANDARD
TZOFFSETFROM:-0400
TZOFFSETTO:-0500
TZNAME:EST
DTSTART:20201101T060000
END:STANDARD
BEGIN:DAYLIGHT
TZOFFSETFROM:-0500
TZOFFSETTO:-0400
TZNAME:EDT
DTSTART:20210314T070000
END:DAYLIGHT
BEGIN:STANDARD
TZOFFSETFROM:-0400
TZOFFSETTO:-0500
TZNAME:EST
DTSTART:20211107T060000
END:STANDARD
BEGIN:DAYLIGHT
TZOFFSETFROM:-0500
TZOFFSETTO:-0400
TZNAME:EDT
DTSTART:20220313T070000
END:DAYLIGHT
BEGIN:STANDARD
TZOFFSETFROM:-0400
TZOFFSETTO:-0500
TZNAME:EST
DTSTART:20221106T060000
END:STANDARD
END:VTIMEZONE
BEGIN:VEVENT
DTSTART;TZID=America/New_York:20210711T083000
DTEND;TZID=America/New_York:20210711T113000
DTSTAMP:20260423T112244
CREATED:20210607T175454Z
LAST-MODIFIED:20210629T114645Z
UID:10000154-1625992200-1626003000@ambcknox.org
SUMMARY:Group Ride - Preview Aspire MTB Park
DESCRIPTION:Join AMBC’s 1st president Randy Conner for a member ride at Aspire MTB Park in Clinton\, TN. Ride will meet at Ingles at 190 Clinch Ave\, Clinton\, TN 37716\nNot a current AMBC or SORBA member? No worries\, sign up today!
URL:https://ambcknox.org/event/group-ride-preview-aspire-mtb-park-2/
CATEGORIES:Group Rides,Regional Events
END:VEVENT
END:VCALENDAR