BEGIN:VCALENDAR
VERSION:2.0
PRODID:-//Appalachian Mountain Bike Club - ECPv6.15.20//NONSGML v1.0//EN
CALSCALE:GREGORIAN
METHOD:PUBLISH
X-WR-CALNAME:Appalachian Mountain Bike Club
X-ORIGINAL-URL:https://ambcknox.org
X-WR-CALDESC:Events for Appalachian Mountain Bike Club
REFRESH-INTERVAL;VALUE=DURATION:PT1H
X-Robots-Tag:noindex
X-PUBLISHED-TTL:PT1H
BEGIN:VTIMEZONE
TZID:America/New_York
BEGIN:DAYLIGHT
TZOFFSETFROM:-0500
TZOFFSETTO:-0400
TZNAME:EDT
DTSTART:20200308T070000
END:DAYLIGHT
BEGIN:STANDARD
TZOFFSETFROM:-0400
TZOFFSETTO:-0500
TZNAME:EST
DTSTART:20201101T060000
END:STANDARD
BEGIN:DAYLIGHT
TZOFFSETFROM:-0500
TZOFFSETTO:-0400
TZNAME:EDT
DTSTART:20210314T070000
END:DAYLIGHT
BEGIN:STANDARD
TZOFFSETFROM:-0400
TZOFFSETTO:-0500
TZNAME:EST
DTSTART:20211107T060000
END:STANDARD
BEGIN:DAYLIGHT
TZOFFSETFROM:-0500
TZOFFSETTO:-0400
TZNAME:EDT
DTSTART:20220313T070000
END:DAYLIGHT
BEGIN:STANDARD
TZOFFSETFROM:-0400
TZOFFSETTO:-0500
TZNAME:EST
DTSTART:20221106T060000
END:STANDARD
END:VTIMEZONE
BEGIN:VEVENT
DTSTART;TZID=America/New_York:20210828T120000
DTEND;TZID=America/New_York:20210828T220000
DTSTAMP:20260423T083951
CREATED:20210810T174237Z
LAST-MODIFIED:20210810T174237Z
UID:10000054-1630152000-1630188000@ambcknox.org
SUMMARY:Alliance + AMBC = Active Beer Culture
DESCRIPTION:Celebrate Craft beer week with an afternoon on the patio at Alliance. They’ll be slinging tunes\, we’ll have a bike bingo to participate in\, and a buck from every beer will go to support local trails!
URL:https://ambcknox.org/event/alliance-ambc-active-beer-culture/
LOCATION:Alliance Brewing Company\, 1130 Sevier Ave\, Knoxville\, TN\, 37920\, United States
CATEGORIES:Fundraisers,Group Rides,Parties,Regional Events
ATTACH;FMTTYPE=image/jpeg:https://ambcknox.org/site/wp-content/uploads/2021/08/abc_ambcshirt.jpg
ORGANIZER;CN="Appalachian Mountain Bike Club":MAILTO:info@ambcknox.org
GEO:35.9594436;-83.9035287
X-APPLE-STRUCTURED-LOCATION;VALUE=URI;X-ADDRESS=Alliance Brewing Company 1130 Sevier Ave Knoxville TN 37920 United States;X-APPLE-RADIUS=500;X-TITLE=1130 Sevier Ave:geo:-83.9035287,35.9594436
END:VEVENT
END:VCALENDAR