BEGIN:VCALENDAR
VERSION:2.0
PRODID:-//Appalachian Mountain Bike Club - ECPv6.15.20//NONSGML v1.0//EN
CALSCALE:GREGORIAN
METHOD:PUBLISH
X-ORIGINAL-URL:https://ambcknox.org
X-WR-CALDESC:Events for Appalachian Mountain Bike Club
REFRESH-INTERVAL;VALUE=DURATION:PT1H
X-Robots-Tag:noindex
X-PUBLISHED-TTL:PT1H
BEGIN:VTIMEZONE
TZID:America/New_York
BEGIN:DAYLIGHT
TZOFFSETFROM:-0500
TZOFFSETTO:-0400
TZNAME:EDT
DTSTART:20200308T070000
END:DAYLIGHT
BEGIN:STANDARD
TZOFFSETFROM:-0400
TZOFFSETTO:-0500
TZNAME:EST
DTSTART:20201101T060000
END:STANDARD
BEGIN:DAYLIGHT
TZOFFSETFROM:-0500
TZOFFSETTO:-0400
TZNAME:EDT
DTSTART:20210314T070000
END:DAYLIGHT
BEGIN:STANDARD
TZOFFSETFROM:-0400
TZOFFSETTO:-0500
TZNAME:EST
DTSTART:20211107T060000
END:STANDARD
BEGIN:DAYLIGHT
TZOFFSETFROM:-0500
TZOFFSETTO:-0400
TZNAME:EDT
DTSTART:20220313T070000
END:DAYLIGHT
BEGIN:STANDARD
TZOFFSETFROM:-0400
TZOFFSETTO:-0500
TZNAME:EST
DTSTART:20221106T060000
END:STANDARD
END:VTIMEZONE
BEGIN:VEVENT
DTSTART;TZID=America/New_York:20210926T100000
DTEND;TZID=America/New_York:20210926T160000
DTSTAMP:20260423T073114
CREATED:20210922T140118Z
LAST-MODIFIED:20210922T141712Z
UID:10000059-1632650400-1632672000@ambcknox.org
SUMMARY:Sunday Senders - September
DESCRIPTION:With support from Knox Brew Tours\, Knoxville Outdoor Tours\, and Harper’s Bike Shop join AMBC for shuttles on Devils Race Track at Baker Creek from 10 -4. Meet at the bottom of Pappys Way to sign a waiver and hop on the shuttle. Suggested donation – $10 \nAs COVID-19 case counts continue to rise in our area we’re implementing a mask policy on the shuttle van\, plan to bring your favorite mask or use one of ours. \nUnder 18 and need to pre-sign the waiver? Print this and bring it with you!! Senders waiver
URL:https://ambcknox.org/event/sunday-senders-september/
LOCATION:Baker Creek Preserve\, 1516 Taylor Road\, Knoxville\, TN\, 37920\, United States
CATEGORIES:Fundraisers,Group Rides,Parties,Regional Events
ATTACH;FMTTYPE=image/jpeg:https://ambcknox.org/site/wp-content/uploads/2021/07/sunday-senders-event-header.jpg
ORGANIZER;CN="Appalachian Mountain Bike Club":MAILTO:info@ambcknox.org
GEO:35.942899;-83.890728
X-APPLE-STRUCTURED-LOCATION;VALUE=URI;X-ADDRESS=Baker Creek Preserve 1516 Taylor Road Knoxville TN 37920 United States;X-APPLE-RADIUS=500;X-TITLE=1516 Taylor Road:geo:-83.890728,35.942899
END:VEVENT
END:VCALENDAR