BEGIN:VCALENDAR
VERSION:2.0
PRODID:-//Appalachian Mountain Bike Club - ECPv6.15.20//NONSGML v1.0//EN
CALSCALE:GREGORIAN
METHOD:PUBLISH
X-ORIGINAL-URL:https://ambcknox.org
X-WR-CALDESC:Events for Appalachian Mountain Bike Club
REFRESH-INTERVAL;VALUE=DURATION:PT1H
X-Robots-Tag:noindex
X-PUBLISHED-TTL:PT1H
BEGIN:VTIMEZONE
TZID:America/New_York
BEGIN:DAYLIGHT
TZOFFSETFROM:-0500
TZOFFSETTO:-0400
TZNAME:EDT
DTSTART:20200308T070000
END:DAYLIGHT
BEGIN:STANDARD
TZOFFSETFROM:-0400
TZOFFSETTO:-0500
TZNAME:EST
DTSTART:20201101T060000
END:STANDARD
BEGIN:DAYLIGHT
TZOFFSETFROM:-0500
TZOFFSETTO:-0400
TZNAME:EDT
DTSTART:20210314T070000
END:DAYLIGHT
BEGIN:STANDARD
TZOFFSETFROM:-0400
TZOFFSETTO:-0500
TZNAME:EST
DTSTART:20211107T060000
END:STANDARD
BEGIN:DAYLIGHT
TZOFFSETFROM:-0500
TZOFFSETTO:-0400
TZNAME:EDT
DTSTART:20220313T070000
END:DAYLIGHT
BEGIN:STANDARD
TZOFFSETFROM:-0400
TZOFFSETTO:-0500
TZNAME:EST
DTSTART:20221106T060000
END:STANDARD
END:VTIMEZONE
BEGIN:VEVENT
DTSTART;TZID=America/New_York:20211210T150000
DTEND;TZID=America/New_York:20211210T160000
DTSTAMP:20260423T035230
CREATED:20211207T201206Z
LAST-MODIFIED:20211207T201206Z
UID:10000162-1639148400-1639152000@ambcknox.org
SUMMARY:William Hastie Celebration!!!
DESCRIPTION:JOIN US THIS FRIDAY\nTO CELEBRATE THE EXPANSION OF WILLIAM HASTIE NATURAL AREA!\n\nAt 3pm on Friday\, December 10th club City leaders\, Appalachian Mountain Bike Club trail-building enthusiasts and Urban Wilderness advocates will gather at the William Hastie Natural Area to celebrate a 27-acre expansion of this section of the Urban Wilderness – as well as the start of construction on 2 miles of new trails in the park.\n*** NOTE: Parking at the site is extremely limited\, please Hike or Bike into the Trailhead at 1302 Margaret Road. Parking and Shuttle is available at the Anderson School Trailhead\, 4808 Prospect Road. Shuttle service will begin at 2:15.  \n“We’re excited about the diversity of experiences made possible by this most recent park addition\,” said AMBC Executive Director Matthew Kellogg. “The William Hastie new trail plan will increase beginner trail opportunities within the park\, add an additional intermediate loop from the trailhead\, and provide two-directional mountain bike trails to the rockier south side of the new property.” \nLast spring\, AMBC put the 27 acres under contract\, with the intent of adding it to the City’s William Hastie Natural Area park. More than 300 proud land donors contributed to make the purchase a reality\, with the City of Knoxville funding $100\,000\, roughly half the purchase investment. Vee Hollow in Townsend matched donations for the land purchase\, and Harper Auto Square has pledged a $20\,000 matching donation toward construction. Donate today to close the funding gap! \nLink to Media Advisory Here
URL:https://ambcknox.org/event/william-hastie-celebration/
LOCATION:William Hastie Natural Area\, Margaret Road\, Knoxville\, TN\, 37920\, United States
CATEGORIES:Fundraisers,Meetings,Regional Events
ATTACH;FMTTYPE=image/jpeg:https://ambcknox.org/site/wp-content/uploads/2021/04/land-donor-web-banner-thanks-lg.jpg
ORGANIZER;CN="Appalachian Mountain Bike Club":MAILTO:info@ambcknox.org
GEO:35.9304108;-83.8764218
X-APPLE-STRUCTURED-LOCATION;VALUE=URI;X-ADDRESS=William Hastie Natural Area Margaret Road Knoxville TN 37920 United States;X-APPLE-RADIUS=500;X-TITLE=Margaret Road:geo:-83.8764218,35.9304108
END:VEVENT
END:VCALENDAR