BEGIN:VCALENDAR
VERSION:2.0
PRODID:-//Appalachian Mountain Bike Club - ECPv6.15.20//NONSGML v1.0//EN
CALSCALE:GREGORIAN
METHOD:PUBLISH
X-ORIGINAL-URL:https://ambcknox.org
X-WR-CALDESC:Events for Appalachian Mountain Bike Club
REFRESH-INTERVAL;VALUE=DURATION:PT1H
X-Robots-Tag:noindex
X-PUBLISHED-TTL:PT1H
BEGIN:VTIMEZONE
TZID:America/New_York
BEGIN:DAYLIGHT
TZOFFSETFROM:-0500
TZOFFSETTO:-0400
TZNAME:EDT
DTSTART:20210314T070000
END:DAYLIGHT
BEGIN:STANDARD
TZOFFSETFROM:-0400
TZOFFSETTO:-0500
TZNAME:EST
DTSTART:20211107T060000
END:STANDARD
BEGIN:DAYLIGHT
TZOFFSETFROM:-0500
TZOFFSETTO:-0400
TZNAME:EDT
DTSTART:20220313T070000
END:DAYLIGHT
BEGIN:STANDARD
TZOFFSETFROM:-0400
TZOFFSETTO:-0500
TZNAME:EST
DTSTART:20221106T060000
END:STANDARD
BEGIN:DAYLIGHT
TZOFFSETFROM:-0500
TZOFFSETTO:-0400
TZNAME:EDT
DTSTART:20230312T070000
END:DAYLIGHT
BEGIN:STANDARD
TZOFFSETFROM:-0400
TZOFFSETTO:-0500
TZNAME:EST
DTSTART:20231105T060000
END:STANDARD
END:VTIMEZONE
BEGIN:VEVENT
DTSTART;TZID=America/New_York:20220710T120000
DTEND;TZID=America/New_York:20220710T160000
DTSTAMP:20260422T185130
CREATED:20220622T010839Z
LAST-MODIFIED:20220708T190219Z
UID:10000185-1657454400-1657468800@ambcknox.org
SUMMARY:*Canceled due to Rain* Sunday Senders Shuttles at Devils Racetrack
DESCRIPTION:Canceled due to Rain 🙁\n\nJoin us for an afternoon of fun at Baker Creek! SHUTTLES – MUSIC – FOOD – Our good friends at Knox Brew Tours will be shuttling\, Knoxville Adventure Tours will help with loading\, and AMBC and The Drop Inn will be asking for your support for the latest addition to Knoxville’s Urban Wilderness.
URL:https://ambcknox.org/event/sunday-senders-shuttles-at-devils-racetrack/
LOCATION:Baker Creek Preserve\, 1516 Taylor Road\, Knoxville\, TN\, 37920\, United States
CATEGORIES:Fundraisers,Group Rides,Parties,Regional Events,Volunteer Opportunities
ATTACH;FMTTYPE=image/jpeg:https://ambcknox.org/site/wp-content/uploads/2021/07/sunday-senders-event-header.jpg
ORGANIZER;CN="Appalachian Mountain Bike Club":MAILTO:info@ambcknox.org
GEO:35.942899;-83.890728
X-APPLE-STRUCTURED-LOCATION;VALUE=URI;X-ADDRESS=Baker Creek Preserve 1516 Taylor Road Knoxville TN 37920 United States;X-APPLE-RADIUS=500;X-TITLE=1516 Taylor Road:geo:-83.890728,35.942899
END:VEVENT
END:VCALENDAR