BEGIN:VCALENDAR
VERSION:2.0
PRODID:-//Appalachian Mountain Bike Club - ECPv6.15.20//NONSGML v1.0//EN
CALSCALE:GREGORIAN
METHOD:PUBLISH
X-ORIGINAL-URL:https://ambcknox.org
X-WR-CALDESC:Events for Appalachian Mountain Bike Club
REFRESH-INTERVAL;VALUE=DURATION:PT1H
X-Robots-Tag:noindex
X-PUBLISHED-TTL:PT1H
BEGIN:VTIMEZONE
TZID:America/New_York
BEGIN:DAYLIGHT
TZOFFSETFROM:-0500
TZOFFSETTO:-0400
TZNAME:EDT
DTSTART:20220313T070000
END:DAYLIGHT
BEGIN:STANDARD
TZOFFSETFROM:-0400
TZOFFSETTO:-0500
TZNAME:EST
DTSTART:20221106T060000
END:STANDARD
BEGIN:DAYLIGHT
TZOFFSETFROM:-0500
TZOFFSETTO:-0400
TZNAME:EDT
DTSTART:20230312T070000
END:DAYLIGHT
BEGIN:STANDARD
TZOFFSETFROM:-0400
TZOFFSETTO:-0500
TZNAME:EST
DTSTART:20231105T060000
END:STANDARD
BEGIN:DAYLIGHT
TZOFFSETFROM:-0500
TZOFFSETTO:-0400
TZNAME:EDT
DTSTART:20240310T070000
END:DAYLIGHT
BEGIN:STANDARD
TZOFFSETFROM:-0400
TZOFFSETTO:-0500
TZNAME:EST
DTSTART:20241103T060000
END:STANDARD
END:VTIMEZONE
BEGIN:VEVENT
DTSTART;TZID=America/New_York:20230905T180000
DTEND;TZID=America/New_York:20230905T203000
DTSTAMP:20260420T021327
CREATED:20230822T005425Z
LAST-MODIFIED:20230822T005425Z
UID:10000237-1693936800-1693945800@ambcknox.org
SUMMARY:Big Fun Tuesday Novice Group Ride!!!
DESCRIPTION:WHAT!$%!?? A Big Fun Tuesday Group Ride?? YOU BET. Join us for a Novice 6-mile NO-DROP (Seriously) Ride. We’ll gather at 6 for sign-in and then roll from Meads Quarry at 6:30. The 6-mile loop will take us a little over an hour to complete\, and we’ll have ride leaders up front and sweeps in the back. Be prepared with a mountain bike that’s been tuned up\, pumped up\, and ready to roll. Might as well bring some water and snacks\, but be prepared to hang out afterward. Ijams will have a food truck and their beer garden open.  No registration\, but the link to the ride plan is here on Trailforks with a preview below.
URL:https://ambcknox.org/event/big-fun-tuesday-novice-group-ride/
LOCATION:Meads Quarry\, 3526 Island Home Pike\, Knoxville\, TN\, 37920\, United States
CATEGORIES:Group Rides,Parties,Regional Events,Volunteer Opportunities
ORGANIZER;CN="Appalachian Mountain Bike Club":MAILTO:info@ambcknox.org
GEO:35.9522893;-83.865295
X-APPLE-STRUCTURED-LOCATION;VALUE=URI;X-ADDRESS=Meads Quarry 3526 Island Home Pike Knoxville TN 37920 United States;X-APPLE-RADIUS=500;X-TITLE=3526 Island Home Pike:geo:-83.865295,35.9522893
END:VEVENT
BEGIN:VEVENT
DTSTART;TZID=America/New_York:20230923T090000
DTEND;TZID=America/New_York:20230923T120000
DTSTAMP:20260420T021327
CREATED:20230810T134435Z
LAST-MODIFIED:20230907T185006Z
UID:10000232-1695459600-1695470400@ambcknox.org
SUMMARY:National Public Lands Day WORK PARTY!
DESCRIPTION:Join us at Loyston – The plan is to knock out some trail projects with our RAD community!!! Lunch will be served by REI at noon. \nAs usual\, AMBC will provide the tools\, just come prepared to work with sturdy shoes\, gloves\, safety glasses\, and water. \nCAN YOU DIG IT?
URL:https://ambcknox.org/event/national-public-lands-day-work-party-2/
LOCATION:Loyston Point\, 146-160 Lakeshore Dr\, Andersonville\, TN 37705\, Andersonville\, TN\, 37705\, United States
CATEGORIES:Regional Events,Volunteer Opportunities,Work Parties
ATTACH;FMTTYPE=image/jpeg:https://ambcknox.org/site/wp-content/uploads/2021/06/work-party-3.jpg
ORGANIZER;CN="Appalachian Mountain Bike Club":MAILTO:info@ambcknox.org
GEO:36.270439;-83.966725
X-APPLE-STRUCTURED-LOCATION;VALUE=URI;X-ADDRESS=Loyston Point 146-160 Lakeshore Dr Andersonville TN 37705 Andersonville TN 37705 United States;X-APPLE-RADIUS=500;X-TITLE=146-160 Lakeshore Dr\, Andersonville\, TN 37705:geo:-83.966725,36.270439
END:VEVENT
END:VCALENDAR