BEGIN:VCALENDAR
VERSION:2.0
PRODID:-//Appalachian Mountain Bike Club - ECPv6.15.20//NONSGML v1.0//EN
CALSCALE:GREGORIAN
METHOD:PUBLISH
X-ORIGINAL-URL:https://ambcknox.org
X-WR-CALDESC:Events for Appalachian Mountain Bike Club
REFRESH-INTERVAL;VALUE=DURATION:PT1H
X-Robots-Tag:noindex
X-PUBLISHED-TTL:PT1H
BEGIN:VTIMEZONE
TZID:America/New_York
BEGIN:DAYLIGHT
TZOFFSETFROM:-0500
TZOFFSETTO:-0400
TZNAME:EDT
DTSTART:20200308T070000
END:DAYLIGHT
BEGIN:STANDARD
TZOFFSETFROM:-0400
TZOFFSETTO:-0500
TZNAME:EST
DTSTART:20201101T060000
END:STANDARD
BEGIN:DAYLIGHT
TZOFFSETFROM:-0500
TZOFFSETTO:-0400
TZNAME:EDT
DTSTART:20210314T070000
END:DAYLIGHT
BEGIN:STANDARD
TZOFFSETFROM:-0400
TZOFFSETTO:-0500
TZNAME:EST
DTSTART:20211107T060000
END:STANDARD
BEGIN:DAYLIGHT
TZOFFSETFROM:-0500
TZOFFSETTO:-0400
TZNAME:EDT
DTSTART:20220313T070000
END:DAYLIGHT
BEGIN:STANDARD
TZOFFSETFROM:-0400
TZOFFSETTO:-0500
TZNAME:EST
DTSTART:20221106T060000
END:STANDARD
END:VTIMEZONE
BEGIN:VEVENT
DTSTART;TZID=America/New_York:20210501T090000
DTEND;TZID=America/New_York:20210501T120000
DTSTAMP:20260424T082346
CREATED:20210415T195023Z
LAST-MODIFIED:20210415T195023Z
UID:10000134-1619859600-1619870400@ambcknox.org
SUMMARY:Hastie Small Project
DESCRIPTION:SMALL PROJECTS for SMALL GROUPS\, with a group of 10 or less we’ll safety tackle some projects at Hastie.\nSign up today!!! Then bring gloves\, sturdy shoes\, water\, and a face mask for the sign in\, AMBC will have the tools for the project.\nWe’ll have lunch at noon and Hi-Wire Brewing will have post work party refreshments
URL:https://ambcknox.org/event/hastie-small-project/
CATEGORIES:Volunteer Opportunities,Work Parties
ATTACH;FMTTYPE=image/jpeg:https://ambcknox.org/site/wp-content/uploads/2021/04/small-projects-1.jpg
ORGANIZER;CN="Appalachian Mountain Bike Club":MAILTO:info@ambcknox.org
END:VEVENT
BEGIN:VEVENT
DTSTART;TZID=America/New_York:20210501T090000
DTEND;TZID=America/New_York:20210501T120000
DTSTAMP:20260424T082346
CREATED:20210415T195239Z
LAST-MODIFIED:20210415T195239Z
UID:10000135-1619859600-1619870400@ambcknox.org
SUMMARY:Concord Small Project
DESCRIPTION:SMALL PROJECTS for SMALL GROUPS\, with a group of 10 or less we’ll safety tackle some projects at Concord.\nSign up today!!! Then bring gloves\, sturdy shoes\, water\, and a face mask for the sign in\, AMBC will have the tools for the project.\nWe’ll have lunch at noon and Hi-Wire Brewing will have post work party refreshments
URL:https://ambcknox.org/event/concord-small-project/
CATEGORIES:Volunteer Opportunities,Work Parties
ATTACH;FMTTYPE=image/jpeg:https://ambcknox.org/site/wp-content/uploads/2021/04/small-projects-5.jpg
ORGANIZER;CN="Appalachian Mountain Bike Club":MAILTO:info@ambcknox.org
END:VEVENT
BEGIN:VEVENT
DTSTART;TZID=America/New_York:20210501T090000
DTEND;TZID=America/New_York:20210501T120000
DTSTAMP:20260424T082346
CREATED:20210426T171749Z
LAST-MODIFIED:20210426T205620Z
UID:10000137-1619859600-1619870400@ambcknox.org
SUMMARY:Ijams Small Project
DESCRIPTION:SMALL PROJECTS for SMALL GROUPS\, with a group of 10 or less we’ll safety tackle removing invasive plants from the trail corridor.\nSign up today!!! Then bring gloves\, sturdy shoes\, water\, and a face mask for the sign in\, AMBC will have the tools for the project.\nWe’ll have lunch at noon and Hi-Wire Brewing will have post work party refreshments
URL:https://ambcknox.org/event/ijams-small-project/
LOCATION:Meads Quarry\, 3526 Island Home Pike\, Knoxville\, TN\, 37920\, United States
CATEGORIES:Volunteer Opportunities,Work Parties
ATTACH;FMTTYPE=image/jpeg:https://ambcknox.org/site/wp-content/uploads/2021/04/small-projects-4.jpg
ORGANIZER;CN="Appalachian Mountain Bike Club":MAILTO:info@ambcknox.org
GEO:35.9522893;-83.865295
X-APPLE-STRUCTURED-LOCATION;VALUE=URI;X-ADDRESS=Meads Quarry 3526 Island Home Pike Knoxville TN 37920 United States;X-APPLE-RADIUS=500;X-TITLE=3526 Island Home Pike:geo:-83.865295,35.9522893
END:VEVENT
BEGIN:VEVENT
DTSTART;TZID=America/New_York:20210502T090000
DTEND;TZID=America/New_York:20210502T120000
DTSTAMP:20260424T082346
CREATED:20210424T180019Z
LAST-MODIFIED:20210424T180019Z
UID:10000136-1619946000-1619956800@ambcknox.org
SUMMARY:Small Project - Sharps Ridge
DESCRIPTION:SMALL PROJECTS for SMALL GROUPS\, with a group of 10 or less we’ll safety tackle some projects at Sharps Ridge.\nSign up today!!! Then bring gloves\, sturdy shoes\, water\, and a face mask for the sign in\, AMBC will have the tools for the project.\nWe’ll have lunch at noon and Hi-Wire Brewing will have post work party refreshmentshttps://x.gldn.io/qPA4gv4RIfb
URL:https://ambcknox.org/event/small-project-sharps-ridge/
CATEGORIES:Volunteer Opportunities,Work Parties
ATTACH;FMTTYPE=image/jpeg:https://ambcknox.org/site/wp-content/uploads/2021/04/small-projects-5.jpg
ORGANIZER;CN="Appalachian Mountain Bike Club":MAILTO:info@ambcknox.org
END:VEVENT
BEGIN:VEVENT
DTSTART;TZID=America/New_York:20210511T080000
DTEND;TZID=America/New_York:20210511T120000
DTSTAMP:20260424T082346
CREATED:20210405T190837Z
LAST-MODIFIED:20210405T190910Z
UID:10000133-1620720000-1620734400@ambcknox.org
SUMMARY:Elavon Small Project
DESCRIPTION:Every year the Staff at Elavon help AMBC out with various projects – this year is no different. This Small Project group is reserved for Elavon employees first\, if space allows we can add outside volunteers. To be added to the wait list please send an email to kellogg@ambcknox.org
URL:https://ambcknox.org/event/elavon-small-project-3/
CATEGORIES:Volunteer Opportunities,Work Parties
ATTACH;FMTTYPE=image/jpeg:https://ambcknox.org/site/wp-content/uploads/2020/07/AMBCicking-20-02-22-Hunter0704-scaled.jpg
ORGANIZER;CN="Appalachian Mountain Bike Club":MAILTO:info@ambcknox.org
END:VEVENT
END:VCALENDAR