BEGIN:VCALENDAR
VERSION:2.0
PRODID:-//Appalachian Mountain Bike Club - ECPv6.15.20//NONSGML v1.0//EN
CALSCALE:GREGORIAN
METHOD:PUBLISH
X-ORIGINAL-URL:https://ambcknox.org
X-WR-CALDESC:Events for Appalachian Mountain Bike Club
REFRESH-INTERVAL;VALUE=DURATION:PT1H
X-Robots-Tag:noindex
X-PUBLISHED-TTL:PT1H
BEGIN:VTIMEZONE
TZID:America/New_York
BEGIN:DAYLIGHT
TZOFFSETFROM:-0500
TZOFFSETTO:-0400
TZNAME:EDT
DTSTART:20200308T070000
END:DAYLIGHT
BEGIN:STANDARD
TZOFFSETFROM:-0400
TZOFFSETTO:-0500
TZNAME:EST
DTSTART:20201101T060000
END:STANDARD
BEGIN:DAYLIGHT
TZOFFSETFROM:-0500
TZOFFSETTO:-0400
TZNAME:EDT
DTSTART:20210314T070000
END:DAYLIGHT
BEGIN:STANDARD
TZOFFSETFROM:-0400
TZOFFSETTO:-0500
TZNAME:EST
DTSTART:20211107T060000
END:STANDARD
BEGIN:DAYLIGHT
TZOFFSETFROM:-0500
TZOFFSETTO:-0400
TZNAME:EDT
DTSTART:20220313T070000
END:DAYLIGHT
BEGIN:STANDARD
TZOFFSETFROM:-0400
TZOFFSETTO:-0500
TZNAME:EST
DTSTART:20221106T060000
END:STANDARD
END:VTIMEZONE
BEGIN:VEVENT
DTSTART;VALUE=DATE:20210604
DTEND;VALUE=DATE:20210607
DTSTAMP:20260424T052442
CREATED:20210507T150139Z
LAST-MODIFIED:20210604T124206Z
UID:10000139-1622764800-1623023999@ambcknox.org
SUMMARY:National Trails Day 2021
DESCRIPTION:Join us for weekend of fun! \nWe’ll join the Big South Fork Mountain Biking Club to celebrate National Trails Day. \nWeekend Schedule: \n\nFriday 6/4\nSelf supported camping\nReserve your campsite at Bandy Creek TODAY!!!\nAMBC will be based on loop A this year.\nSaturday 6/5\n\n8:30am – Work Project with support from REI\n12pm – Lunch by Joe Cross and Big South Fork Mountain Bike Club\n2pm – Social Rides\n8pm – Campfire\nSunday 6/6\n\n\n9am – Self supported Group Rides including one Epic Route for an all day BSF adventure. \nAll tools will be provided for the work party  – please bring gloves\, water\, and sturdy shoes.
URL:https://ambcknox.org/event/national-trails-day/
LOCATION:Big South Fork – Bandy Creek\, Bandy Loop\, Oneida\, 37841
CATEGORIES:Group Rides,Parties,Regional Events,Volunteer Opportunities,Work Parties
ATTACH;FMTTYPE=image/jpeg:https://ambcknox.org/site/wp-content/uploads/2021/05/NTD.jpg
ORGANIZER;CN="Appalachian Mountain Bike Club":MAILTO:info@ambcknox.org
GEO:36.4884726;-84.6973425
X-APPLE-STRUCTURED-LOCATION;VALUE=URI;X-ADDRESS=Big South Fork – Bandy Creek Bandy Loop Oneida 37841;X-APPLE-RADIUS=500;X-TITLE=Bandy Loop:geo:-84.6973425,36.4884726
END:VEVENT
BEGIN:VEVENT
DTSTART;TZID=America/New_York:20210610T180000
DTEND;TZID=America/New_York:20210610T200000
DTSTAMP:20260424T052442
CREATED:20210601T181925Z
LAST-MODIFIED:20210601T181925Z
UID:10000152-1623348000-1623355200@ambcknox.org
SUMMARY:Invasive Removal Training
DESCRIPTION:AMBC has teamed up with Ijams Nature Center to train club members to safety identify and remove invasive plants that surround our trails. \nThis training will be limited to 10 people\, please register HERE! \nAMBC will provide dinner and drinks for all participants.
URL:https://ambcknox.org/event/invasive-removal-training/
LOCATION:Meads Quarry\, 3526 Island Home Pike\, Knoxville\, TN\, 37920\, United States
CATEGORIES:Volunteer Opportunities,Work Parties
ATTACH;FMTTYPE=image/jpeg:https://ambcknox.org/site/wp-content/uploads/2021/06/invtraining.jpg
ORGANIZER;CN="Appalachian Mountain Bike Club":MAILTO:info@ambcknox.org
GEO:35.9522893;-83.865295
X-APPLE-STRUCTURED-LOCATION;VALUE=URI;X-ADDRESS=Meads Quarry 3526 Island Home Pike Knoxville TN 37920 United States;X-APPLE-RADIUS=500;X-TITLE=3526 Island Home Pike:geo:-83.865295,35.9522893
END:VEVENT
END:VCALENDAR