BEGIN:VCALENDAR
VERSION:2.0
PRODID:-//Appalachian Mountain Bike Club - ECPv6.15.20//NONSGML v1.0//EN
CALSCALE:GREGORIAN
METHOD:PUBLISH
X-WR-CALNAME:Appalachian Mountain Bike Club
X-ORIGINAL-URL:https://ambcknox.org
X-WR-CALDESC:Events for Appalachian Mountain Bike Club
REFRESH-INTERVAL;VALUE=DURATION:PT1H
X-Robots-Tag:noindex
X-PUBLISHED-TTL:PT1H
BEGIN:VTIMEZONE
TZID:America/New_York
BEGIN:DAYLIGHT
TZOFFSETFROM:-0500
TZOFFSETTO:-0400
TZNAME:EDT
DTSTART:20210314T070000
END:DAYLIGHT
BEGIN:STANDARD
TZOFFSETFROM:-0400
TZOFFSETTO:-0500
TZNAME:EST
DTSTART:20211107T060000
END:STANDARD
BEGIN:DAYLIGHT
TZOFFSETFROM:-0500
TZOFFSETTO:-0400
TZNAME:EDT
DTSTART:20220313T070000
END:DAYLIGHT
BEGIN:STANDARD
TZOFFSETFROM:-0400
TZOFFSETTO:-0500
TZNAME:EST
DTSTART:20221106T060000
END:STANDARD
BEGIN:DAYLIGHT
TZOFFSETFROM:-0500
TZOFFSETTO:-0400
TZNAME:EDT
DTSTART:20230312T070000
END:DAYLIGHT
BEGIN:STANDARD
TZOFFSETFROM:-0400
TZOFFSETTO:-0500
TZNAME:EST
DTSTART:20231105T060000
END:STANDARD
END:VTIMEZONE
BEGIN:VEVENT
DTSTART;TZID=America/New_York:20220924T090000
DTEND;TZID=America/New_York:20220924T120000
DTSTAMP:20260423T095042
CREATED:20220822T154353Z
LAST-MODIFIED:20220822T154353Z
UID:10000183-1664010000-1664020800@ambcknox.org
SUMMARY:National Public Lands Day WORK PARTY!
DESCRIPTION:Join us at Loyston – The plan is to knock out some trail projects with our RAD community!!! Lunch will be served at noon thanks to REI. \nAs usual\, AMBC will provide the tools\, just come prepared to work with sturdy shoes\, gloves\, safety glasses\, and water. \nCAN YOU DIG IT?
URL:https://ambcknox.org/event/national-public-lands-day-work-party/
LOCATION:Loyston Point\, 146-160 Lakeshore Dr\, Andersonville\, TN 37705\, Andersonville\, TN\, 37705\, United States
CATEGORIES:Regional Events,Volunteer Opportunities,Work Parties
ATTACH;FMTTYPE=image/jpeg:https://ambcknox.org/site/wp-content/uploads/2021/06/work-party-3.jpg
ORGANIZER;CN="Appalachian Mountain Bike Club":MAILTO:info@ambcknox.org
GEO:36.270439;-83.966725
X-APPLE-STRUCTURED-LOCATION;VALUE=URI;X-ADDRESS=Loyston Point 146-160 Lakeshore Dr Andersonville TN 37705 Andersonville TN 37705 United States;X-APPLE-RADIUS=500;X-TITLE=146-160 Lakeshore Dr\, Andersonville\, TN 37705:geo:-83.966725,36.270439
END:VEVENT
END:VCALENDAR