BEGIN:VCALENDAR
VERSION:2.0
PRODID:-//Appalachian Mountain Bike Club - ECPv6.15.20//NONSGML v1.0//EN
CALSCALE:GREGORIAN
METHOD:PUBLISH
X-WR-CALNAME:Appalachian Mountain Bike Club
X-ORIGINAL-URL:https://ambcknox.org
X-WR-CALDESC:Events for Appalachian Mountain Bike Club
REFRESH-INTERVAL;VALUE=DURATION:PT1H
X-Robots-Tag:noindex
X-PUBLISHED-TTL:PT1H
BEGIN:VTIMEZONE
TZID:America/New_York
BEGIN:DAYLIGHT
TZOFFSETFROM:-0500
TZOFFSETTO:-0400
TZNAME:EDT
DTSTART:20220313T070000
END:DAYLIGHT
BEGIN:STANDARD
TZOFFSETFROM:-0400
TZOFFSETTO:-0500
TZNAME:EST
DTSTART:20221106T060000
END:STANDARD
BEGIN:DAYLIGHT
TZOFFSETFROM:-0500
TZOFFSETTO:-0400
TZNAME:EDT
DTSTART:20230312T070000
END:DAYLIGHT
BEGIN:STANDARD
TZOFFSETFROM:-0400
TZOFFSETTO:-0500
TZNAME:EST
DTSTART:20231105T060000
END:STANDARD
BEGIN:DAYLIGHT
TZOFFSETFROM:-0500
TZOFFSETTO:-0400
TZNAME:EDT
DTSTART:20240310T070000
END:DAYLIGHT
BEGIN:STANDARD
TZOFFSETFROM:-0400
TZOFFSETTO:-0500
TZNAME:EST
DTSTART:20241103T060000
END:STANDARD
END:VTIMEZONE
BEGIN:VEVENT
DTSTART;TZID=America/New_York:20230107T090000
DTEND;TZID=America/New_York:20230107T120000
DTSTAMP:20260423T045709
CREATED:20221006T160000Z
LAST-MODIFIED:20221207T143313Z
UID:10000191-1673082000-1673092800@ambcknox.org
SUMMARY:Work Party - IC King
DESCRIPTION:Come out and join us for our monthly work party\, it’s a great way to catch up with the community while improving our awesome trails! We’ll have all the tools – bring water\, gloves\, safety glasses and be prepared with sturdy footwear.  Lunch will be served up by Cycology at noon\, and you know we’ll have cold beverages provided by Lipman Brothers to quench our thirsts!
URL:https://ambcknox.org/event/work-party-ic-king/
LOCATION:I.C. King Park via Maryville Pike\, 2625 Maryville Pike\, Knoxville\, TN\, 37920\, United States
CATEGORIES:Work Parties
ATTACH;FMTTYPE=image/jpeg:https://ambcknox.org/site/wp-content/uploads/2022/04/work-party-10.jpeg
ORGANIZER;CN="Appalachian Mountain Bike Club":MAILTO:info@ambcknox.org
GEO:35.891182;-83.952343
X-APPLE-STRUCTURED-LOCATION;VALUE=URI;X-ADDRESS=I.C. King Park via Maryville Pike 2625 Maryville Pike Knoxville TN 37920 United States;X-APPLE-RADIUS=500;X-TITLE=2625 Maryville Pike:geo:-83.952343,35.891182
END:VEVENT
END:VCALENDAR