BEGIN:VCALENDAR
VERSION:2.0
PRODID:-//Appalachian Mountain Bike Club - ECPv6.15.20//NONSGML v1.0//EN
CALSCALE:GREGORIAN
METHOD:PUBLISH
X-WR-CALNAME:Appalachian Mountain Bike Club
X-ORIGINAL-URL:https://ambcknox.org
X-WR-CALDESC:Events for Appalachian Mountain Bike Club
REFRESH-INTERVAL;VALUE=DURATION:PT1H
X-Robots-Tag:noindex
X-PUBLISHED-TTL:PT1H
BEGIN:VTIMEZONE
TZID:America/New_York
BEGIN:DAYLIGHT
TZOFFSETFROM:-0500
TZOFFSETTO:-0400
TZNAME:EDT
DTSTART:20220313T070000
END:DAYLIGHT
BEGIN:STANDARD
TZOFFSETFROM:-0400
TZOFFSETTO:-0500
TZNAME:EST
DTSTART:20221106T060000
END:STANDARD
BEGIN:DAYLIGHT
TZOFFSETFROM:-0500
TZOFFSETTO:-0400
TZNAME:EDT
DTSTART:20230312T070000
END:DAYLIGHT
BEGIN:STANDARD
TZOFFSETFROM:-0400
TZOFFSETTO:-0500
TZNAME:EST
DTSTART:20231105T060000
END:STANDARD
BEGIN:DAYLIGHT
TZOFFSETFROM:-0500
TZOFFSETTO:-0400
TZNAME:EDT
DTSTART:20240310T070000
END:DAYLIGHT
BEGIN:STANDARD
TZOFFSETFROM:-0400
TZOFFSETTO:-0500
TZNAME:EST
DTSTART:20241103T060000
END:STANDARD
END:VTIMEZONE
BEGIN:VEVENT
DTSTART;TZID=America/New_York:20230204T090000
DTEND;TZID=America/New_York:20230204T120000
DTSTAMP:20260423T035046
CREATED:20221006T160356Z
LAST-MODIFIED:20230130T223258Z
UID:10000190-1675501200-1675512000@ambcknox.org
SUMMARY:MEGA Work Party - Concord
DESCRIPTION:This one is gonna be MEGA! Come out and join us for our monthly work party\, it’s a great way to catch up with the community while improving our awesome trails! We’ll have all the tools – bring water\, gloves\, safety glasses and be prepared with sturdy footwear.  Harpers Bike Shop will be providing lunch at noon\, and you know we’ll have cold beverages from Lipman Brothers to quench our thirsts!
URL:https://ambcknox.org/event/mega-work-party-concord/
LOCATION:Concord Park\, 10960 Concord Park Dr\, Knoxville\, 37922
CATEGORIES:Work Parties
ATTACH;FMTTYPE=image/jpeg:https://ambcknox.org/site/wp-content/uploads/2022/01/mega-work-party-event.jpg
ORGANIZER;CN="Appalachian Mountain Bike Club":MAILTO:info@ambcknox.org
GEO:35.8628658;-84.1259972
X-APPLE-STRUCTURED-LOCATION;VALUE=URI;X-ADDRESS=Concord Park 10960 Concord Park Dr Knoxville 37922;X-APPLE-RADIUS=500;X-TITLE=10960 Concord Park Dr:geo:-84.1259972,35.8628658
END:VEVENT
END:VCALENDAR