BEGIN:VCALENDAR
VERSION:2.0
PRODID:-//Appalachian Mountain Bike Club - ECPv6.15.20//NONSGML v1.0//EN
CALSCALE:GREGORIAN
METHOD:PUBLISH
X-ORIGINAL-URL:https://ambcknox.org
X-WR-CALDESC:Events for Appalachian Mountain Bike Club
REFRESH-INTERVAL;VALUE=DURATION:PT1H
X-Robots-Tag:noindex
X-PUBLISHED-TTL:PT1H
BEGIN:VTIMEZONE
TZID:America/New_York
BEGIN:DAYLIGHT
TZOFFSETFROM:-0500
TZOFFSETTO:-0400
TZNAME:EDT
DTSTART:20210314T070000
END:DAYLIGHT
BEGIN:STANDARD
TZOFFSETFROM:-0400
TZOFFSETTO:-0500
TZNAME:EST
DTSTART:20211107T060000
END:STANDARD
BEGIN:DAYLIGHT
TZOFFSETFROM:-0500
TZOFFSETTO:-0400
TZNAME:EDT
DTSTART:20220313T070000
END:DAYLIGHT
BEGIN:STANDARD
TZOFFSETFROM:-0400
TZOFFSETTO:-0500
TZNAME:EST
DTSTART:20221106T060000
END:STANDARD
BEGIN:DAYLIGHT
TZOFFSETFROM:-0500
TZOFFSETTO:-0400
TZNAME:EDT
DTSTART:20230312T070000
END:DAYLIGHT
BEGIN:STANDARD
TZOFFSETFROM:-0400
TZOFFSETTO:-0500
TZNAME:EST
DTSTART:20231105T060000
END:STANDARD
END:VTIMEZONE
BEGIN:VEVENT
DTSTART;TZID=America/New_York:20220124T190000
DTEND;TZID=America/New_York:20220124T200000
DTSTAMP:20260423T012616
CREATED:20200221T171439Z
LAST-MODIFIED:20220122T182609Z
UID:10000119-1643050800-1643054400@ambcknox.org
SUMMARY:AMBC Meeting broadcast live on FaceBook and YouTube!!!
DESCRIPTION:Get the latest updates from AMBC at our monthly meeting broadcast live on FaceBook and YouTube!!! \nPizza by the slice will be available and all the news starts at 7pm sharp! \nHave something to add? Get it to kellogg@ambcknox.org \nCan’t make it? No worries\, the videos are archived on our Facebook and YouTube video page. \n  \n\n  \nCheers!!! \n 
URL:https://ambcknox.org/event/ambc-meeting-hybrid-2022-01-24/
LOCATION:Tennessee
CATEGORIES:Meetings
ATTACH;FMTTYPE=image/jpeg:https://ambcknox.org/site/wp-content/uploads/2020/01/monthly-meeting-3.jpg
ORGANIZER;CN="Appalachian Mountain Bike Club":MAILTO:info@ambcknox.org
END:VEVENT
END:VCALENDAR