BEGIN:VCALENDAR
VERSION:2.0
PRODID:-//Appalachian Mountain Bike Club - ECPv6.15.20//NONSGML v1.0//EN
CALSCALE:GREGORIAN
METHOD:PUBLISH
X-WR-CALNAME:Appalachian Mountain Bike Club
X-ORIGINAL-URL:https://ambcknox.org
X-WR-CALDESC:Events for Appalachian Mountain Bike Club
REFRESH-INTERVAL;VALUE=DURATION:PT1H
X-Robots-Tag:noindex
X-PUBLISHED-TTL:PT1H
BEGIN:VTIMEZONE
TZID:America/New_York
BEGIN:DAYLIGHT
TZOFFSETFROM:-0500
TZOFFSETTO:-0400
TZNAME:EDT
DTSTART:20220313T070000
END:DAYLIGHT
BEGIN:STANDARD
TZOFFSETFROM:-0400
TZOFFSETTO:-0500
TZNAME:EST
DTSTART:20221106T060000
END:STANDARD
BEGIN:DAYLIGHT
TZOFFSETFROM:-0500
TZOFFSETTO:-0400
TZNAME:EDT
DTSTART:20230312T070000
END:DAYLIGHT
BEGIN:STANDARD
TZOFFSETFROM:-0400
TZOFFSETTO:-0500
TZNAME:EST
DTSTART:20231105T060000
END:STANDARD
BEGIN:DAYLIGHT
TZOFFSETFROM:-0500
TZOFFSETTO:-0400
TZNAME:EDT
DTSTART:20240310T070000
END:DAYLIGHT
BEGIN:STANDARD
TZOFFSETFROM:-0400
TZOFFSETTO:-0500
TZNAME:EST
DTSTART:20241103T060000
END:STANDARD
END:VTIMEZONE
BEGIN:VEVENT
DTSTART;TZID=America/New_York:20230814T180000
DTEND;TZID=America/New_York:20230814T210000
DTSTAMP:20260422T040404
CREATED:20230625T183400Z
LAST-MODIFIED:20230625T183400Z
UID:10000228-1692036000-1692046800@ambcknox.org
SUMMARY:South Loop Summer Session #5
DESCRIPTION:REGISTER HERE!!!
URL:https://ambcknox.org/event/south-loop-summer-session-5/
LOCATION:Aberdeen Lane\, 2514 Aberdeen Lane\, Knoxville\, TN\, 37920\, United States
CATEGORIES:Group Rides,Joy Ride,Volunteer Opportunities
ATTACH;FMTTYPE=image/jpeg:https://ambcknox.org/site/wp-content/uploads/2023/06/SOUTH-LOOP-SUMMER-SESSION-5.jpeg
ORGANIZER;CN="Appalachian Mountain Bike Club":MAILTO:info@ambcknox.org
GEO:35.9480602;-83.8764368
X-APPLE-STRUCTURED-LOCATION;VALUE=URI;X-ADDRESS=Aberdeen Lane 2514 Aberdeen Lane Knoxville TN 37920 United States;X-APPLE-RADIUS=500;X-TITLE=2514 Aberdeen Lane:geo:-83.8764368,35.9480602
END:VEVENT
END:VCALENDAR